Workbook
Name IMAGEM: INDEX([1]Imagens!$B$1:$B$19,MATCH([1]Resumo!$B$3,[1]Imagens!$A$1:$A$19,0))
Name IMAGEM_PREFEITURA: INDEX([1]Imagens!$H$20:$H$133,MATCH([1]Resumo!$B$2,[1]Imagens!$G$20:$G$133,0))

Sheet LOTE 01-ORÇAMENTO
A1: ITEM | B1: BASE | C1: CÓDIGO | D1: DESCRIÇÃO | E1: UNID. | F1: QUANT. | G1: UNITÁRIO SEM BDI | H1: UNITÁRIO COM BDI | I1: CUSTO TOTAL | J1: BDI | Y1: BDI 1 | Z1: 0.2822
A2: 1 | D2: MOBILIZAÇÃO E SERVIÇOS DE APOIO | I2: =SUBTOTAL(9,I3:I24) -> 82842.64 | Z2: 0.1726
A3: 1.1 | D3: MOBILIZAÇÃO E DESMOBILIZAÇÃO | I3: =SUBTOTAL(9,I4:I5) -> 7095.6 | X3: =SUM(AA4:AA5) -> 7095.6 | AD3: =SUM(AC4:AC5) -> 7095.6
A4: 1.1.1 | B4: SINAPI | C4: 100947 | D4: TRANSPORTE COM CAMINHÃO CARROCERIA 9T, EM VIA URBANA PAVIMENTADA, DMT ATÉ 30KM | E4: TxKM | F4: =2*9*30 -> 540 | G4: =VLOOKUP('LOTE 01-ORÇAMENTO'!$C4,Tabela5[#All],5,0) -> 2.25 | H4: =TRUNC(IF(J4="BDI 1",G4*(1+$Z$1),IF(J4="BDI 2",G4*(1+$Z$2),IF(J4="",0))),2) -> 2.88 | I4: =ROUND(ROUND(F4,2)*ROUND(H4,2),2) -> 1555.2 | J4: BDI 1 | AA4: =F4*H4 -> 1555.2 | AC4: =H4*F4 -> 1555.2
A5: 1.1.2 | B5: SINAPI | C5: 100948 | D5: TRANSPORTE COM CAMINHÃO CARROCERIA 9T, EM VIA URBANA PAVIMENTADA, ADICIONAL PARA DMT EXCEDENTE A 30 KM | E5: TxKM | F5: =2*9*(300-30) -> 4860 | G5: =VLOOKUP('LOTE 01-ORÇAMENTO'!$C5,Tabela5[#All],5,0) -> 0.89 | H5: =TRUNC(IF(J5="BDI 1",G5*(1+$Z$1),IF(J5="BDI 2",G5*(1+$Z$2),IF(J5="",0))),2) -> 1.14 | I5: =ROUND(ROUND(F5,2)*ROUND(H5,2),2) -> 5540.4 | J5: BDI 1 | Z5: =SUM(X3:X6) -> 49776.35 | AA5: =F5*H5 -> 5540.4 | AC5: =H5*F5 -> 5540.4
A6: 1.2 | D6: SERVIÇOS DE APOIO | I6: =SUBTOTAL(9,I7:I24) -> 75747.04 | X6: =SUM(AA9:AA24) -> 42680.75 | AA6: =F6*H6 -> 0 | AC6: =H6*F6 -> 0 | AD6: =SUM(AC9:AC24) -> 42680.75
A7: 1.2.1 | B7: SUDECAP | C7: 10901 | D7: MOBILIZAÇÃO DE CONTAINER | E7: UNID | F7: 2 | G7: =VLOOKUP('LOTE 01-ORÇAMENTO'!$C7,BASE_PREÇOS!$A$20401:$F$23990,5,0) -> 900 | H7: =TRUNC(IF(J7="BDI 1",G7*(1+$Z$1),IF(J7="BDI 2",G7*(1+$Z$2),IF(J7="",0))),2) -> 1153.98 | I7: =ROUND(ROUND(F7,2)*ROUND(H7,2),2) -> 2307.96 | J7: BDI 1
A8: 1.2.2 | B8: SUDECAP | C8: 10911 | D8: DESMOBILIZAÇÃO DE CONTAINER | E8: UNID | F8: 2 | G8: =VLOOKUP('LOTE 01-ORÇAMENTO'!$C8,BASE_PREÇOS!$A$20401:$F$23990,5,0) -> 900 | H8: =TRUNC(IF(J8="BDI 1",G8*(1+$Z$1),IF(J8="BDI 2",G8*(1+$Z$2),IF(J8="",0))),2) -> 1153.98 | I8: =ROUND(ROUND(F8,2)*ROUND(H8,2),2) -> 2307.96 | J8: BDI 1
A9: 1.2.3 | B9: SUDECAP | C9: 10902 | D9: CONTAINER SIMPLES COM AR CONDICIONADO PARA ESCRITÓRIO | E9: MÊS | F9: 4 | G9: =VLOOKUP('LOTE 01-ORÇAMENTO'!$C9,BASE_PREÇOS!$A$20401:$F$23990,5,0) -> 1450 | H9: =TRUNC(IF(J9="BDI 1",G9*(1+$Z$1),IF(J9="BDI 2",G9*(1+$Z$2),IF(J9="",0))),2) -> 1859.19 | I9: =ROUND(ROUND(F9,2)*ROUND(H9,2),2) -> 7436.76 | J9: BDI 1 | AA9: =F9*H9 -> 7436.76 | AC9: =H9*F9 -> 7436.76
A10: 1.2.4 | B10: SUDECAP | C10: 895002 | D10: CONTAINER 6,00X2,40X2,82M, COM ISOLAMENTO TÉRMICO | E10: MÊS | F10: 4 | G10: =VLOOKUP('LOTE 01-ORÇAMENTO'!$C10,BASE_PREÇOS!$A$20401:$F$23990,5,0) -> 1200 | H10: =TRUNC(IF(J10="BDI 1",G10*(1+$Z$1),IF(J10="BDI 2",G10*(1+$Z$2),IF(J10="",0))),2) -> 1538.64 | I10: =ROUND(ROUND(F10,2)*ROUND(H10,2),2) -> 6154.56 | J10: BDI 1
A11: 1.2.5 | B11: SUDECAP | C11: 410201 | D11: INSTALACAO PROVISORIA DE AGUA | E11: UNID | F11: 1 | G11: =VLOOKUP('LOTE 01-ORÇAMENTO'!$C11,BASE_PREÇOS!$A$20401:$F$23990,5,0) -> 344.89 | H11: =TRUNC(IF(J11="BDI 1",G11*(1+$Z$1),IF(J11="BDI 2",G11*(1+$Z$2),IF(J11="",0))),2) -> 442.21 | I11: =ROUND(ROUND(F11,2)*ROUND(H11,2),2) -> 442.21 | J11: BDI 1
A12: 1.2.6 | B12: SUDECAP | C12: 10601 | D12: INSTALACAO PROVISORIA PADRÃO CEMIG TIPO C3, DEMANDA PROVÁVEL DE 23,1 ATÉ 27,0KW (3F+N) | E12: UNID | F12: 1 | G12: =VLOOKUP('LOTE 01-ORÇAMENTO'!$C12,BASE_PREÇOS!$A$20401:$F$23990,5,0) -> 675.75 | H12: =TRUNC(IF(J12="BDI 1",G12*(1+$Z$1),IF(J12="BDI 2",G12*(1+$Z$2),IF(J12="",0))),2) -> 866.44 | I12: =ROUND(ROUND(F12,2)*ROUND(H12,2),2) -> 866.44 | J12: BDI 1
A13: 1.2.7 | B13: SUDECAP | C13: 10417 | D13: TAPUME METÁLICO COM BASE ENTERRADA (M) | E13: M | F13: 60 | G13: =VLOOKUP('LOTE 01-ORÇAMENTO'!$C13,BASE_PREÇOS!$A$20401:$F$23990,5,0) -> 99.48 | H13: =TRUNC(IF(J13="BDI 1",G13*(1+$Z$1),IF(J13="BDI 2",G13*(1+$Z$2),IF(J13="",0))),2) -> 127.55 | I13: =ROUND(ROUND(F13,2)*ROUND(H13,2),2) -> 7653 | J13: BDI 1
A14: 1.2.8 | B14: COPASA | C14: 37524 | D14: TELA PLÁSTICA LARANJA, TIPO TAPUME PARA SINALIZAÇÃO, MALHA RETANGULAR, ROLO 1,20 X 50,00 M (L X C) | E14: M | F14: 50 | G14: =VLOOKUP('LOTE 01-ORÇAMENTO'!$C14,Tabela5[#All],5,0) -> 1.93 | H14: =TRUNC(IF(J14="BDI 1",G14*(1+$Z$1),IF(J14="BDI 2",G14*(1+$Z$2),IF(J14="",0))),2) -> 2.47 | I14: =ROUND(ROUND(F14,2)*ROUND(H14,2),2) -> 123.5 | J14: BDI 1 | AA14: =F14*H14 -> 123.5 | AC14: =H14*F14 -> 123.5
A15: 1.2.9 | B15: COPASA | C15: 65000222 | D15: ESGOTAMENTO DE VALA COM BOMBA, VAZÃO ATÉ 25 M³/H | E15: H | F15: =4*5.5*4*3 -> 264 | G15: =VLOOKUP('LOTE 01-ORÇAMENTO'!$C15,Tabela5[#All],5,0) -> 3.8 | H15: =TRUNC(IF(J15="BDI 1",G15*(1+$Z$1),IF(J15="BDI 2",G15*(1+$Z$2),IF(J15="",0))),2) -> 4.87 | I15: =ROUND(ROUND(F15,2)*ROUND(H15,2),2) -> 1285.68 | J15: BDI 1 | AA15: =F15*H15 -> 1285.68 | AC15: =H15*F15 -> 1285.68
A16: 1.2.10 | B16: SICOR | C16: MATED-11059 | D16: ENSAIO DE MASSA ESPECIFICA DE SOLO, IN SITU, CONFORME NBR 7.185:2016 | E16: UNID | F16: 8 | G16: 38.97 | H16: =TRUNC(IF(J16="BDI 1",G16*(1+$Z$1),IF(J16="BDI 2",G16*(1+$Z$2),IF(J16="",0))),2) -> 49.96 | I16: =ROUND(ROUND(F16,2)*ROUND(H16,2),2) -> 399.68 | J16: BDI 1 | AA16: =F16*H16 -> 399.68 | AC16: =H16*F16 -> 399.68
A17: 1.2.11 | B17: COPASA | C17: 65001242 | D17: ENSAIO DE CONTROLE DE COMPACTAÇÃO DE SOLOS, PELO MÉTODO HILF, COM EMISSÃO DE LAUDO, CONFORME NBR 12.102:2020 | E17: UNID | F17: 5 | G17: =VLOOKUP('LOTE 01-ORÇAMENTO'!$C17,Tabela5[#All],5,0) -> 151.69 | H17: =TRUNC(IF(J17="BDI 1",G17*(1+$Z$1),IF(J17="BDI 2",G17*(1+$Z$2),IF(J17="",0))),2) -> 194.49 | I17: =ROUND(ROUND(F17,2)*ROUND(H17,2),2) -> 972.45 | J17: BDI 1 | AA17: =F17*H17 -> 972.45 | AC17: =H17*F17 -> 972.45
A18: 1.2.12 | B18: SICOR | C18: ED-49544 | D18: ENSAIO DE CONCRETO - CURA, FACEAMENTO, RUPTURA, COM EMISSÃO DE LAUDO, CONFORME AS NBR 5.738 E NBR 5.739 | E18: UNID | F18: 10 | G18: 115.5 | H18: =TRUNC(IF(J18="BDI 1",G18*(1+$Z$1),IF(J18="BDI 2",G18*(1+$Z$2),IF(J18="",0))),2) -> 148.09 | I18: =ROUND(ROUND(F18,2)*ROUND(H18,2),2) -> 1480.9 | J18: BDI 1 | AA18: =F18*H18 -> 1480.9 | AC18: =H18*F18 -> 1480.9
A19: 1.2.13 | B19: SICOR | C19: ED-50155 | D19: LOCAÇÃO DE BANHEIRO QUÍMICO, DIMENSÕES (110X120X230)CM, LINHA PADRÃO, CONTENDO UMA (1) PIA/HIGIENIZADOR DE MÃOS, INCLUSIVE MANUTENÇÃO E MOBILIZAÇÃO/DESMOBILIZAÇÃO, CONSIDERANDO 1 UNIDADE1 | E19: MÊS | F19: 4 | G19: =VLOOKUP('LOTE 01-ORÇAMENTO'!$C19,Tabela5[#All],5,0) -> 1050 | H19: =TRUNC(IF(J19="BDI 1",G19*(1+$Z$1),IF(J19="BDI 2",G19*(1+$Z$2),IF(J19="",0))),2) -> 1346.31 | I19: =ROUND(ROUND(F19,2)*ROUND(H19,2),2) -> 5385.24 | J19: BDI 1 | AA19: =F19*H19 -> 5385.24 | AC19: =H19*F19 -> 5385.24
A20: 1.2.14 | B20: SUDECAP | C20: 430103 | D20: TOPOGRAFIA COM PLANIMETRIA | E20: MÊS | F20: 0.5 | G20: =VLOOKUP('LOTE 01-ORÇAMENTO'!$C20,Tabela5[#All],5,0) -> 18814.07 | H20: =TRUNC(IF(J20="BDI 1",G20*(1+$Z$1),IF(J20="BDI 2",G20*(1+$Z$2),IF(J20="",0))),2) -> 24123.4 | I20: =ROUND(ROUND(F20,2)*ROUND(H20,2),2) -> 12061.7 | J20: BDI 1 | AA20: =F20*H20 -> 12061.7 | AC20: =H20*F20 -> 12061.7
A21: 1.2.15 | B21: SUDECAP | C21: 950101 | D21: MOBILIZAÇÃO, INSTALAÇÃO E DESMOBILIZAÇÃO, PARA EXECUÇÃO DE SONDAGEM À PERCUSSÃO (NBR 6484:2020) | E21: UN | F21: 1 | G21: =VLOOKUP('LOTE 01-ORÇAMENTO'!$C21,Tabela5[#All],5,0) -> 1200 | H21: =TRUNC(IF(J21="BDI 1",G21*(1+$Z$1),IF(J21="BDI 2",G21*(1+$Z$2),IF(J21="",0))),2) -> 1538.64 | I21: =ROUND(ROUND(F21,2)*ROUND(H21,2),2) -> 1538.64 | J21: BDI 1
A22: 1.2.16 | B22: SUDECAP | C22: 950103 | D22: DESMONTAGEM, TRANSPORTE E MONTAGEM DE EQUIPAMENTOS DE SONDAGEM A PERCUSSÃO POR FURO | E22: UN | F22: 4 | G22: =VLOOKUP('LOTE 01-ORÇAMENTO'!$C22,Tabela5[#All],5,0) -> 400 | H22: =TRUNC(IF(J22="BDI 1",G22*(1+$Z$1),IF(J22="BDI 2",G22*(1+$Z$2),IF(J22="",0))),2) -> 512.88 | I22: =ROUND(ROUND(F22,2)*ROUND(H22,2),2) -> 2051.52 | J22: BDI 1
A23: 1.2.17 | B23: SUDECAP | C23: 950102 | D23: PERFURAÇÃO DE SOLO SONDAGEM À PERCUSSÃO (NBR 6484:2020) | E23: M | F23: =20*4 -> 80 | G23: =VLOOKUP('LOTE 01-ORÇAMENTO'!$C23,Tabela5[#All],5,0) -> 95 | H23: =TRUNC(IF(J23="BDI 1",G23*(1+$Z$1),IF(J23="BDI 2",G23*(1+$Z$2),IF(J23="",0))),2) -> 121.8 | I23: =ROUND(ROUND(F23,2)*ROUND(H23,2),2) -> 9744 | J23: BDI 1
A24: 1.2.18 | B24: COPASA | C24: 65001001 | D24: VEICULO UTILITÁRIO LEVE, TIPO PICK-UP, COM CAPACIDADE DE CARGA DE 700 KG, CONSIDERANDO DISPONIBILIDADE E COMBUSTÍVEL | E24: MÊS | F24: 4 | G24: =VLOOKUP('LOTE 01-ORÇAMENTO'!$C24,Tabela5[#All],5,0) -> 2638.99 | H24: =TRUNC(IF(J24="BDI 1",G24*(1+$Z$1),IF(J24="BDI 2",G24*(1+$Z$2),IF(J24="",0))),2) -> 3383.71 | I24: =ROUND(ROUND(F24,2)*ROUND(H24,2),2) -> 13534.84 | J24: BDI 1 | AA24: =F24*H24 -> 13534.84 | AC24: =H24*F24 -> 13534.84
A25: 2 | D25: ADMINISTRAÇÃO LOCAL DA OBRA | I25: =SUBTOTAL(9,I26:I29) -> 184014.4 | AA25: =F25*H25 -> 0 | AC25: =H25*F25 -> 0
A26: 2.1 | B26: SINAPI | C26: 90778 | D26: ENGENHEIRO DE OBRA, NÍVEL PLENO, COM ENCARGOS SOCIAIS (4 H/DIA X 5,5 DIAS/SEM X 4 SEM/MÊS X 5 MESES) | E26: H | F26: =4*5.5*4*4 -> 352 | G26: =VLOOKUP('LOTE 01-ORÇAMENTO'!$C26,Tabela5[#All],5,0) -> 123.73 | H26: =TRUNC(IF(J26="BDI 1",G26*(1+$Z$1),IF(J26="BDI 2",G26*(1+$Z$2),IF(J26="",0))),2) -> 158.64 | I26: =ROUND(ROUND(F26,2)*ROUND(H26,2),2) -> 55841.28 | J26: BDI 1 | AA26: =F26*H26 -> 55841.28 | AC26: =H26*F26 -> 55841.28
A27: 2.2 | B27: SINAPI | C27: 90776 | D27: ENCARREGADO GERAL, COM ENCARGOS SOCIAIS (1 ENCARREGADO X 8 H/DIA X 5,5 DIAS/SEM X 4 SEM/MÊS X 5 MESES) | E27: H | F27: =1*8*5.5*4*4 -> 704 | G27: =VLOOKUP('LOTE 01-ORÇAMENTO'!$C27,Tabela5[#All],5,0) -> 65.38 | H27: =TRUNC(IF(J27="BDI 1",G27*(1+$Z$1),IF(J27="BDI 2",G27*(1+$Z$2),IF(J27="",0))),2) -> 83.83 | I27: =ROUND(ROUND(F27,2)*ROUND(H27,2),2) -> 59016.32 | J27: BDI 1 | AA27: =F27*H27 -> 59016.32 | AC27: =H27*F27 -> 59016.32
A28: 2.3 | B28: SINAPI | C28: 40943 | D28: TECNICO EM SEGURANCA DO TRABALHO (4 H/DIA X 5,5 DIAS/SEM X 4 SEM/MÊS X 5 MESES) | E28: H | F28: =4*5.5*4*4 -> 352 | G28: =VLOOKUP('LOTE 01-ORÇAMENTO'!$C28,Tabela5[#All],5,0) -> 36.59 | H28: =TRUNC(IF(J28="BDI 1",G28*(1+$Z$1),IF(J28="BDI 2",G28*(1+$Z$2),IF(J28="",0))),2) -> 46.91 | I28: =ROUND(ROUND(F28,2)*ROUND(H28,2),2) -> 16512.32 | J28: BDI 1 | AA28: =F28*H28 -> 16512.32 | AC28: =H28*F28 -> 16512.32
A29: 2.4 | B29: SUDECAP | C29: 551096 | D29: VIGIA NOTURNO COM ENCARGOS COMPLEMENTARES (2 VIGIAS X 12 H/DIA X 7 DIAS/SEM X 4 SEM/MÊS X 5 MESES) | E29: H | F29: =1*12*7*4*4 -> 1344 | G29: =VLOOKUP('LOTE 01-ORÇAMENTO'!$C29,BASE_PREÇOS!$A$20401:$F$23990,5,0) -> 30.55 | H29: =TRUNC(IF(J29="BDI 1",G29*(1+$Z$1),IF(J29="BDI 2",G29*(1+$Z$2),IF(J29="",0))),2) -> 39.17 | I29: =ROUND(ROUND(F29,2)*ROUND(H29,2),2) -> 52644.48 | J29: BDI 1 | AA29: =F29*H29 -> 52644.48 | AC29: =H29*F29 -> 52644.48
A30: 3 | D30: IDENTIFICAÇÃO DA OBRA | I30: =SUBTOTAL(9,I31) -> 1478.7 | X30: =SUM(AA31) -> 1478.7 | Z30: =X30 -> 1478.7 | AA30: =F30*H30 -> 0 | AC30: =H30*F30 -> 0
A31: 3.1 | B31: SICOR | C31: ED-28427 | D31: FORNECIMENTO E COLOCAÇÃO DE PLACA DE OBRA EM CHAPA GALVANIZADA #26, ESP. 0,45MM, DIMENSÃO 3x1,5 M, PLOTADA COM ADESIVO VINÍLICO, AFIXADA COM REBITES 4,8x40MM, EM ESTRUTURA METÁLICA DE METALON 20x20MM, ESP. 1,25MM, INCLUSIVE SUPORTE EM EUCALIPTO AUTOCLAVADO PINTADO COM TINTA PVA DUAS (2) DEMÃOS | E31: UNID | F31: 1 | G31: =VLOOKUP('LOTE 01-ORÇAMENTO'!$C31,Tabela5[#All],5,0) -> 1153.26 | H31: =TRUNC(IF(J31="BDI 1",G31*(1+$Z$1),IF(J31="BDI 2",G31*(1+$Z$2),IF(J31="",0))),2) -> 1478.7 | I31: =ROUND(ROUND(F31,2)*ROUND(H31,2),2) -> 1478.7 | J31: BDI 1 | AA31: =F31*H31 -> 1478.7 | AC31: =H31*F31 -> 1478.7
A32: 4 | D32: RESERVATÓRIO ESTRELA DO SUL | I32: =SUBTOTAL(9,I33:I211) -> 654207.8 | AA32: =F32*H32 -> 0 | AC32: =H32*F32 -> 0
A33: 4.1 | D33: DEMOLIÇÕES E REMOÇÕES | I33: =SUBTOTAL(9,I34:I38) -> 48897 | AA33: =F33*H33 -> 0 | AC33: =H33*F33 -> 0
A34: 4.1.1 | B34: SICOR | C34: ED-48445 | D34: DEMOLIÇÃO MECANIZADA DE CONCRETO ARMADO, COM EQUIPAMENTO PNEUMÁTICO, INCLUSIVE AFASTAMENTO E EMPILHAMENTO, EXCLUSIVE TRANSPORTE E RETIRADA DO MATERIAL DEMOLIDO | E34: M³ | F34: =ROUNDUP((((PI()*15)*0.25*0.5)+(((PI()*15^2)/4)*0.2))+((8.5*4*0.25*0.5)+(8.5*8.5*0.2)),0) -> 60 | G34: =VLOOKUP('LOTE 01-ORÇAMENTO'!$C34,Tabela5[#All],5,0) -> 347.08 | H34: =TRUNC(IF(J34="BDI 1",G34*(1+$Z$1),IF(J34="BDI 2",G34*(1+$Z$2),IF(J34="",0))),2) -> 445.02 | I34: =ROUND(ROUND(F34,2)*ROUND(H34,2),2) -> 26701.2 | J34: BDI 1 | AA34: 7963.13 | AC34: =H34*F34 -> 26701.2
A35: 4.1.2 | B35: SICOR | C35: ED-48441 | D35: DEMOLIÇÃO MANUAL DE CONCRETO ARMADO, INCLUSIVE AFASTAMENTO E EMPILHAMENTO, EXCLUSIVE TRANSPORTE E RETIRADA DO MATERIAL DEMOLIDO | E35: M³ | F35: =ROUNDUP(F34*25%,0) -> 15 | G35: =VLOOKUP('LOTE 01-ORÇAMENTO'!$C35,Tabela5[#All],5,0) -> 498.69 | H35: =TRUNC(IF(J35="BDI 1",G35*(1+$Z$1),IF(J35="BDI 2",G35*(1+$Z$2),IF(J35="",0))),2) -> 639.42 | I35: =ROUND(ROUND(F35,2)*ROUND(H35,2),2) -> 9591.3 | J35: BDI 1
A36: 4.1.3 | B36: SINAPI | C36: 100982 | D36: CARGA, MANOBRA E DESCARGA DE ENTULHO EM CAMINHÃO BASCULANTE 10 M³ - CARGA COM ESCAVADEIRA HIDRÁULICA (CAÇAMBA DE 0,80 M³ / 111 HP) E DESCARGA LIVRE (UNIDADE: M3) | E36: M³ | F36: =(F34+F35)*1.5 -> 112.5 | G36: =VLOOKUP('LOTE 01-ORÇAMENTO'!$C36,Tabela5[#All],5,0) -> 9.08 | H36: =TRUNC(IF(J36="BDI 1",G36*(1+$Z$1),IF(J36="BDI 2",G36*(1+$Z$2),IF(J36="",0))),2) -> 11.64 | I36: =ROUND(ROUND(F36,2)*ROUND(H36,2),2) -> 1309.5 | J36: BDI 1 | AA36: 6915.04 | AC36: =H36*F36 -> 1309.5
A37: 4.1.4 | B37: SINAPI | C37: 95875 | D37: TRANSPORTE COM CAMINHÃO BASCULANTE DE 10 M³, EM VIA URBANA PAVIMENTADA, DMT ATÉ 30 KM (UNIDADE: M3XKM) | E37: M³xKM | F37: =F36*20 -> 2250 | G37: =VLOOKUP('LOTE 01-ORÇAMENTO'!$C37,Tabela5[#All],5,0) -> 2.49 | H37: =TRUNC(IF(J37="BDI 1",G37*(1+$Z$1),IF(J37="BDI 2",G37*(1+$Z$2),IF(J37="",0))),2) -> 3.19 | I37: =ROUND(ROUND(F37,2)*ROUND(H37,2),2) -> 7177.5 | J37: BDI 1 | AA37: 16092.59 | AC37: =H37*F37 -> 7177.5
A38: 4.1.5 | B38: SINAPI | C38: 100574 | D38: ESPALHAMENTO DE MATERIAL COM TRATOR DE ESTEIRAS | E38: M³ | F38: =F37 -> 2250 | G38: =VLOOKUP('LOTE 01-ORÇAMENTO'!$C38,Tabela5[#All],5,0) -> 1.43 | H38: =TRUNC(IF(J38="BDI 1",G38*(1+$Z$1),IF(J38="BDI 2",G38*(1+$Z$2),IF(J38="",0))),2) -> 1.83 | I38: =ROUND(ROUND(F38,2)*ROUND(H38,2),2) -> 4117.5 | J38: BDI 1 | AA38: 1067.67 | AC38: =H38*F38 -> 4117.5
A39: 4.2 | D39: TERRAPLENAGEM ÁREA DO RESERVATÓRIO | I39: =SUBTOTAL(9,I40:I43) -> 121459.71 | X39: =SUM(AA40:AA43) -> 65878.81 | Z39: =X39 -> 65878.81 | AA39: =F39*H39 -> 0 | AC39: =H39*F39 -> 0
A40: 4.2.1 | B40: COPASA | C40: 65000196 | D40: ESCAVACAO MECANICA DE MATERIAL DE PRIMEIRA CATEGORIA | E40: M³ | F40: =ROUNDUP((((((PI()*15^2)/4)*3)+(8.5*8.5*2.5)+(450*0.2))*1.3),0) -> 1041 | G40: =VLOOKUP('LOTE 01-ORÇAMENTO'!$C40,Tabela5[#All],5,0) -> 6.68 | H40: =TRUNC(IF(J40="BDI 1",G40*(1+$Z$1),IF(J40="BDI 2",G40*(1+$Z$2),IF(J40="",0))),2) -> 8.56 | I40: =ROUND(ROUND(F40,2)*ROUND(H40,2),2) -> 8910.96 | J40: BDI 1 | AA40: 8786.78 | AC40: =H40*F40 -> 8910.96
...

Sheet BASE_PREÇOS
A1: CÓD | B1: DESCRIÇÃO | C1: UNID | D1: VR ONERADO | E1: VR DESONERADO | F1: REFERÊNCIA
A2: 12 | B2: ESCOVA DE ACO, COM CABO, *4 X 15* FILEIRAS DE CERDAS | C2: UN | D2: 8.74 | E2: 8.74 | F2: SINAPI
A3: 43 | B3: ADAPTADOR PVC PBA, PONTA/ROSCA, JE, DN 75 / DE 85 MM | C3: UN | D3: 63.15 | E3: 63.15 | F3: SINAPI
A4: 46 | B4: ADAPTADOR PVC PBA, BOLSA/ROSCA, JE, DN 75 / DE 85 MM | C4: UN | D4: 55.22 | E4: 55.22 | F4: SINAPI
A5: 47 | B5: ADAPTADOR PVC PBA, BOLSA/ROSCA, JE, DN 100 / DE 110 MM | C5: UN | D5: 94.42 | E5: 94.42 | F5: SINAPI
A6: 48 | B6: ADAPTADOR PVC PBA, BOLSA/ROSCA, JE, DN 50 / DE 60 MM | C6: UN | D6: 24.63 | E6: 24.63 | F6: SINAPI
A7: 52 | B7: ADAPTADOR PVC PBA, PONTA/ROSCA, JE, DN 50 / DE 60 MM | C7: UN | D7: 18.71 | E7: 18.71 | F7: SINAPI
A8: 55 | B8: ADAPTADOR DE COMPRESSAO EM POLIPROPILENO (PP), PARA TUBO EM PEAD, 20 MM X 1/2", PARA LIGACAO PREDIAL DE AGUA (NTS 179) | C8: UN | D8: 6.31 | E8: 6.31 | F8: SINAPI
A9: 60 | B9: ADAPTADOR PVC, COM REGISTRO, PARA PEAD, 20 MM X 3/4", PARA LIGACAO PREDIAL DE AGUA | C9: UN | D9: 8.19 | E9: 8.19 | F9: SINAPI
A10: 61 | B10: ADAPTADOR DE COMPRESSAO EM POLIPROPILENO (PP), PARA TUBO EM PEAD, 20 MM X 3/4", PARA LIGACAO PREDIAL DE AGUA (NTS 179) | C10: UN | D10: 5.97 | E10: 5.97 | F10: SINAPI
A11: 62 | B11: ADAPTADOR DE COMPRESSAO EM POLIPROPILENO (PP), PARA TUBO EM PEAD, 32 MM X 1", PARA LIGACAO PREDIAL DE AGUA (NTS 179) | C11: UN | D11: 12.37 | E11: 12.37 | F11: SINAPI
A12: 64 | B12: UNIAO EM POLIPROPILENO (PP), PARA TUBO EM PEAD, 20 MM - LIGACAO PREDIAL DE AGUA | C12: UN | D12: 7.21 | E12: 7.21 | F12: SINAPI
A13: 65 | B13: ADAPTADOR PVC SOLDAVEL CURTO COM BOLSA E ROSCA, 25 MM X 3/4", PARA AGUA FRIA | C13: UN | D13: 1.01 | E13: 1.01 | F13: SINAPI
... A23990: 970206 | B23990: DETERMINAÇÃO DA MASSA ESPECÍFICA DE AGREGADOS MIUDOS POR MEIO DO FRASCO CHAPMAN (DNER-ME 194/98) | C23990: UN | D23990: 980 | E23990: 980 | F23990: SUDECAP
A23991: CO-24324 | B23991: DIÁRIA DE VIAGEM COM OU SEM PERNOITE, INCLUSIVE ALIMENTAÇÃO | C23991: UN | D23991: 258 | E23991: 258 | F23991: SICOR
A23992: CO-27361 | B23992: LEVANTAMENTO PLANIALTIMÉTRICO E CADASTRAL -TERRENO ATÉ 2.000 M2 | C23992: UN | D23992: 1284.52 | E23992: 1284.52 | F23992: SICOR
A23993: CO-27363 | B23993: LEVANTAMENTO PLANIALTIMÉTRICO E CADASTRAL -TERRENO DE 2.001 A 10.000 M2 | C23993: UN | D23993: 3068.04 | E23993: 3068.04 | F23993: SICOR
A23994: CO-27414 | B23994: ANTEPROJETO DE EDIFICAÇÃO - ÁREA <= 600 M2 | C23994: UN | D23994: 3937.07 | E23994: 3937.07 | F23994: SICOR
A23995: CO-27415 | B23995: ANTEPROJETO DE EDIFICAÇÃO - 600 M2 < ÁREA <= 1.500 M2 | C23995: UN | D23995: 7874.14 | E23995: 7874.14 | F23995: SICOR
A23996: CO-27416 | B23996: ANTEPROJETO DE EDIFICAÇÃO - 1.500 M2 < ÁREA <= 3.000 M2 | C23996: UN | D23996: 11809.41 | E23996: 11809.41 | F23996: SICOR
A23997: CO-27417 | B23997: ANTEPROJETO DE EDIFICAÇÃO - ÁREA > 3.000 M2 | C23997: UN | D23997: 13524.38 | E23997: 13524.38 | F23997: SICOR
A23998: CO-27418 | B23998: ANTEPROJETO DE IMPLANTAÇÃO DE EDIFICAÇÃO PADRÃO COM ÁREA DE PROJEÇÃO < = 600 M2 | C23998: UN | D23998: 2587.59 | E23998: 2587.59 | F23998: SICOR
A23999: CO-27419 | B23999: ANTEPROJETO DE IMPLANTAÇÃO DE EDIFICAÇÃO PADRÃO COM 600 M2 < ÁREA DE PROJEÇÃO = 1.500 M2 | C23999: UN | D23999: 4078.69 | E23999: 4078.69 | F23999: SICOR
A24000: CO-27420 | B24000: ANTEPROJETO DE IMPLANTAÇÃO DE EDIFICAÇÃO PADRÃO COM 1.500 < ÁREA DE PROJEÇÃO <= 3.000 M2 | C24000: UN | D24000: 8142.91 | E24000: 8142.91 | F24000: SICOR
A24001: CO-27421 | B24001: ANTEPROJETO DE IMPLANTAÇÃO DE EDIFICAÇÃO PADRÃO COM ÁREA DE PROJEÇÃO > 3.000 M2 | C24001: UN | D24001: 10712.55 | E24001: 10712.55 | F24001: SICOR
A24002: CO-27483 | B24002: PERSPECTIVA COLORIDA (50X70)CM | C24002: UN | D24002: 1576.39 | E24002: 1576.39 | F24002: SICOR
... A30700: RO-9516 | B30700: CORTE DE TUBOS DE AÇO GALVANIZADO COM ESPESSURA DE ATÉ 3,75 MM COM ESMERILHADEIRA ELÉTRICA MANUAL | C30700: UN | D30700: 33.39 | E30700: 32.96 | F30700: SICOR

Sheet LOTE 01-CRONO FÍSICO-FINANC (2)
A1: Meta | B1: Descrição | C1: Valor | D1: % | E1: Mês 1 | F1: Mês 2 | G1: Mês 3 | H1: Mês 4 | I1: Mês 5
A2: 1 | B2: MOBILIZAÇÃO E SERVIÇOS DE APOIO | C2: =SUM('LOTE 01-ORÇAMENTO'!I3,'LOTE 01-ORÇAMENTO'!I6,'LOTE 01-ORÇAMENTO'!I30) -> 84321.34 | D2: =C2/$C$30 -> 0.087823396 | E2: =SUM(('LOTE 01-ORÇAMENTO'!$I$3/2),'LOTE 01-ORÇAMENTO'!$I$6/4,'LOTE 01-ORÇAMENTO'!I30) -> 23963.26 | F2: ='LOTE 01-ORÇAMENTO'!$I$6/4 -> 18936.76 | G2: ='LOTE 01-ORÇAMENTO'!$I$6/4 -> 18936.76 | H2: =C2-SUM(E2:G2) -> 22484.56 | I2: =C2-SUM(E2:H2) -> 0
E3: =E2/$C$2 -> 0.28418974 | F3: =F2/$C$2 -> 0.2245785 | G3: =G2/$C$2 -> 0.2245785 | H3: =H2/$C$2 -> 0.26665326 | I3: =I2/$C$2 -> 0
A4: 2 | B4: ADMINISTRAÇÃO LOCAL DA OBRA | C4: =SUM('LOTE 01-ORÇAMENTO'!I25) -> 184014.4 | D4: =C4/$C$30 -> 0.19165693 | E4: =ROUND(E5*$C$4,1) -> 47785.6 | F4: =ROUND(F5*$C$4,1) -> 70561.9 | G4: =ROUND(G5*$C$4,1) -> 44688.9 | H4: =C4-SUM(E4:G4) -> 20978
E5: =E38 -> 0.25968397 | F5: =F38 -> 0.38345852 | G5: =G38 -> 0.24285542 | H5: =H38 -> 0.11400209 | I5: =I38 -> 0
A6: 3 | B6: DEMOLIÇÕES E REMOÇÕES | C6: ='LOTE 01-ORÇAMENTO'!I33 -> 48897 | D6: =C6/$C$30 -> 0.050927803 | E6: =C6 -> 48897
E7: =E6/$C6 -> 1 | F7: =F6/$C6 -> 0 | G7: =G6/$C6 -> 0 | H7: =H6/$C6 -> 0 | I7: =I6/$C6 -> 0
A8: 4 | B8: TERRAPLENAGEM ÁREA DO RESERVATÓRIO | C8: ='LOTE 01-ORÇAMENTO'!I39 -> 121459.71 | D8: =C8/$C$30 -> 0.12650421 | E8: =C8*60% -> 72875.826 | F8: =C8*40% -> 48583.884
E9: =E8/$C8 -> 0.6 | F9: =F8/$C8 -> 0.4 | G9: =G8/$C8 -> 0 | H9: =H8/$C8 -> 0 | I9: =I8/$C8 -> 0
A10: 5 | B10: MUROS DE ARRIMO | C10: ='LOTE 01-ORÇAMENTO'!I44 -> 126522.47 | D10: =C10/$C$30 -> 0.13177723 | E10: =C10*15% -> 18978.371 | F10: =C10*60% -> 75913.482 | G10: =C10*25% -> 31630.618 | H10: =C10-SUM(E10:G10) -> 0
E11: =E10/$C10 -> 0.15 | F11: =F10/$C10 -> 0.6 | G11: =G10/$C10 -> 0.25 | H11: =H10/$C10 -> 0 | I11: =I10/$C10 -> 0
A12: 6 | B12: BASE DO RESERVATÓRIO | C12: ='LOTE 01-ORÇAMENTO'!I85 -> 154171.67 | D12: =C12/$C$30 -> 0.16057477 | F12: =C12*100% -> 154171.67 | G12: =C12-F12 -> 0
E13: =E12/$C12 -> 0 | F13: =F12/$C12 -> 1 | G13: =G12/$C12 -> 0 | H13: =H12/$C12 -> 0 | I13: =I12/$C12 -> 0
A14: 7 | B14: SISTEMA DE PREVENÇÃO CONTRA DESCARGAS ATMOSFÉRICAS - SPDA | C14: ='LOTE 01-ORÇAMENTO'!I100 -> 12887.79 | D14: =C14/$C$30 -> 0.013423049 | H14: =C14*100% -> 12887.79 | I14: =C14-SUM(H14) -> 0
E15: =E14/$C14 -> 0 | F15: =F14/$C14 -> 0 | G15: =G14/$C14 -> 0 | H15: =H14/$C14 -> 1 | I15: =I14/$C14 -> 0
A16: 8 | B16: CAIXAS DE DESCARGA E SAÍDA | C16: ='LOTE 01-ORÇAMENTO'!I108 -> 102418.26 | D16: =C16/$C$30 -> 0.10667192 | G16: =C16*80% -> 81934.608 | H16: =C16*20% -> 20483.652 | I16: =C16-SUM(G16:H16) -> 0
E17: =E16/$C16 -> 0 | F17: =F16/$C16 -> 0 | G17: =G16/$C16 -> 0.8 | H17: =H16/$C16 -> 0.2 | I17: =I16/$C16 -> 0
A18: 9 | B18: URBANIZAÇÃO | C18: ='LOTE 01-ORÇAMENTO'!I196 -> 86123.7 | D18: =C18/$C$30 -> 0.089700612 | G18: =C18*65% -> 55980.405 | H18: =C18*35% -> 30143.295 | I18: =C18-SUM(G18:H18) -> 0
E19: =E18/$C18 -> 0 | F19: =F18/$C18 -> 0 | G19: =G18/$C18 -> 0.65 | H19: =H18/$C18 -> 0.35 | I19: =I18/$C18 -> 0
A20: 10 | B20: LIMPEZA FINAL DE OBRA | C20: ='LOTE 01-ORÇAMENTO'!I209 -> 1727.2 | D20: =C20/$C$30 -> 0.0017989345 | H20: =C20*100% -> 1727.2 | I20: =C20-SUM(G20:H20) -> 0
E21: =E20/$C20 -> 0 | F21: =F20/$C20 -> 0 | G21: =G20/$C20 -> 0 | H21: =H20/$C20 -> 1 | I21: =I20/$C20 -> 0
A22: 11 | B22: ELABORAÇÃO DE PROJETOS EXECUTIVOS | C22: ='LOTE 01-ORÇAMENTO'!I212 -> 37580.34 | D22: =C22/$C$30 -> 0.039141137 | E22: =C22*98% -> 36828.733 | H22: =C22*2% -> 751.6068 | I22: =C22-SUM(E22:H22) -> 0
E23: =E22/$C22 -> 0.98 | F23: =F22/$C22 -> 0 | G23: =G22/$C22 -> 0 | H23: =H22/$C22 -> 0.02 | I23: =I22/$C22 -> 0
D24: =C24/$C$30 -> 0 | G24: =C24*45% -> 0 | H24: =C24-SUM(G24) -> 0
E25: =E24/$C24 -> #DIV/0! | F25: =F24/$C24 -> #DIV/0! | G25: =G24/$C24 -> #DIV/0! | H25: =H24/$C24 -> #DIV/0! | I25: =I24/$C24 -> #DIV/0!
D26: =C26/$C$30 -> 0 | G26: =C26*45% -> 0 | H26: =C26-SUM(G26) -> 0
E27: =E26/$C26 -> #DIV/0! | F27: =F26/$C26 -> #DIV/0! | G27: =G26/$C26 -> #DIV/0! | H27: =H26/$C26 -> #DIV/0! | I27: =I26/$C26 -> #DIV/0!
D28: =C28/$C$30 -> 0 | G28: =C28*45% -> 0 | H28: =C28-SUM(G28) -> 0
E29: =E28/$C28 -> #DIV/0! | F29: =F28/$C28 -> #DIV/0! | G29: =G28/$C28 -> #DIV/0! | H29: =H28/$C28 -> #DIV/0! | I29: =I28/$C28 -> #DIV/0!
B30: TOTAL SIMPLES | C30: =SUM(C2:C29) -> 960123.88 | D30: =SUM(D2:D29) -> 1 | E30: =SUM(E2,E4,E6,E8,E10,E12,E14,E16,E18,E20,E22) -> 249328.79 | F30: =SUM(F2,F4,F6,F8,F10,F12,F14,F16,F18,F20,F22) -> 368167.7 | G30: =SUM(G2,G4,G6,G8,G10,G12,G14,G16,G18,G20,G22) -> 233171.29 | H30: =SUM(H2,H4,H6,H8,H10,H12,H14,H16,H18,H20,H22) -> 109456.1 | I30: =SUM(I2,I4,I6,I8,I10,I12,I14,I16,I18,I20,I22) -> 0
B31: % SIMPLES | E31: =($D$2*E3)+($D$4*E5)+($D$6*E7)+($D$8*E9)+($D$10*E11)+($D$12*E13)+($D$14*E15)+($D$16*E17)+($D$18*E19)+($D$20*E21)+($D$22*E23) -> 0.25968397 | F31: =($D$2*F3)+($D$4*F5)+($D$6*F7)+($D$8*F9)+($D$10*F11)+($D$12*F13)+($D$14*F15)+($D$16*F17)+($D$18*F19)+($D$20*F21)+($D$22*F23) -> 0.38345852 | G31: =($D$2*G3)+($D$4*G5)+($D$6*G7)+($D$8*G9)+($D$10*G11)+($D$12*G13)+($D$14*G15)+($D$16*G17)+($D$18*G19)+($D$20*G21)+($D$22*G23) -> 0.24285542 | H31: =($D$2*H3)+($D$4*H5)+($D$6*H7)+($D$8*H9)+($D$10*H11)+($D$12*H13)+($D$14*H15)+($D$16*H17)+($D$18*H19)+($D$20*H21)+($D$22*H23) -> 0.11400209 | I31: =($D$2*I3)+($D$4*I5)+($D$6*I7)+($D$8*I9)+($D$10*I11)+($D$12*I13)+($D$14*I15)+($D$16*I17)+($D$18*I19)+($D$20*I21)+($D$22*I23) -> 0
B32: TOTAL ACUMULADO | E32: =E30 -> 249328.79 | F32: =F30+E32 -> 617496.49 | G32: =G30+F32 -> 850667.78 | H32: =H30+G32 -> 960123.88 | I32: =I30+H32 -> 960123.88
B33: % ACUMULADO | E33: =E31 -> 0.25968397 | F33: =F31+E33 -> 0.64314249 | G33: =G31+F33 -> 0.88599791 | H33: =H31+G33 -> 1 | I33: =I31+H33 -> 1
A35: Cálculo do % a medir da Adm. Local, considerando o cronograma base proposto | E35: Mês 1 | F35: Mês 2 | G35: Mês 3 | H35: Mês 4 | I35: Mês 5
A36: R$ a medir sem Adm. Local, sem os itens caracterizados como materiais e sem pré-operação | E36: =SUBTOTAL(9,E2,E6,E8,E10,E12,E14,E16,E18,E20,E22) -> 201543.19 | F36: =SUBTOTAL(9,F2,F6,F8,F10,F12,F14,F16,F18,F20,F22) -> 297605.8 | G36: =SUBTOTAL(9,G2,G6,G8,G10,G12,G14,G16,G18,G20,G22) -> 188482.39 | H36: =SUBTOTAL(9,H2,H6,H8,H10,H12,H14,H16,H18,H20,H22) -> 88478.104 | I36: =SUBTOTAL(9,I2,I6,I8,I10,I12,I14,I16,I18,I20,I22) -> 0
A37: R$ contratado sem Adm. Local, sem os itens caracterizados como materiais e sem a pré-operação | E37: =$C$30-$C$4 -> 776109.48 | F37: =$C$30-$C$4 -> 776109.48 | G37: =$C$30-$C$4 -> 776109.48 | H37: =$C$30-$C$4 -> 776109.48 | I37: =$C$30-$C$4 -> 776109.48
A38: % Adm. Local a ser medido | E38: =E36/E37 -> 0.25968397 | F38: =F36/F37 -> 0.38345852 | G38: =G36/G37 -> 0.24285542 | H38: =H36/H37 -> 0.11400209 | I38: =I36/I37 -> 0
A39: % Adm. Local a ser medido acumulado | E39: =E38 -> 0.25968397 | F39: =E39+F38 -> 0.64314249 | G39: =F39+G38 -> 0.88599791 | H39: =G39+H38 -> 1 | I39: =H39+I38 -> 1

Sheet LOTE 01-CRONO FÍSICO-FINANCEIRO
A1: Meta | B1: Descrição | C1: Valor | D1: % | E1: Mês 1 | F1: Mês 2 | G1: Mês 3 | H1: Mês 4 | I1: Mês 5
A2: 1 | B2: MOBILIZAÇÃO E SERVIÇOS DE APOIO | C2: =SUM('LOTE 01-ORÇAMENTO'!I3,'LOTE 01-ORÇAMENTO'!I6,'LOTE 01-ORÇAMENTO'!I30) -> 84321.34 | D2: =C2/$C$30 -> 0.087823396 | E2: =SUM(('LOTE 01-ORÇAMENTO'!$I$3/2),'LOTE 01-ORÇAMENTO'!$I$6/4,'LOTE 01-ORÇAMENTO'!I30) -> 23963.26 | F2: ='LOTE 01-ORÇAMENTO'!$I$6/4 -> 18936.76 | G2: ='LOTE 01-ORÇAMENTO'!$I$6/4 -> 18936.76 | H2: =C2-SUM(E2:G2) -> 22484.56 | I2: =C2-SUM(E2:H2) -> 0
E3: =E2/$C$2 -> 0.28418974 | F3: =F2/$C$2 -> 0.2245785 | G3: =G2/$C$2 -> 0.2245785 | H3: =H2/$C$2 -> 0.26665326 | I3: =I2/$C$2 -> 0
A4: 2 | B4: ADMINISTRAÇÃO LOCAL DA OBRA | C4: =SUM('LOTE 01-ORÇAMENTO'!I25) -> 184014.4 | D4: =C4/$C$30 -> 0.19165693 | E4: =ROUND(E5*$C$4,1) -> 47785.6 | F4: =ROUND(F5*$C$4,1) -> 70561.9 | G4: =ROUND(G5*$C$4,1) -> 44688.9 | H4: =C4-SUM(E4:G4) -> 20978
E5: =E38 -> 0.25968397 | F5: =F38 -> 0.38345852 | G5: =G38 -> 0.24285542 | H5: =H38 -> 0.11400209 | I5: =I38 -> 0
A6: 3 | B6: DEMOLIÇÕES E REMOÇÕES | C6: ='LOTE 01-ORÇAMENTO'!I33 -> 48897 | D6: =C6/$C$30 -> 0.050927803 | E6: =C6 -> 48897
E7: =E6/$C6 -> 1 | F7: =F6/$C6 -> 0 | G7: =G6/$C6 -> 0 | H7: =H6/$C6 -> 0 | I7: =I6/$C6 -> 0
A8: 4 | B8: TERRAPLENAGEM ÁREA DO RESERVATÓRIO | C8: ='LOTE 01-ORÇAMENTO'!I39 -> 121459.71 | D8: =C8/$C$30 -> 0.12650421 | E8: =C8*60% -> 72875.826 | F8: =C8*40% -> 48583.884
E9: =E8/$C8 -> 0.6 | F9: =F8/$C8 -> 0.4 | G9: =G8/$C8 -> 0 | H9: =H8/$C8 -> 0 | I9: =I8/$C8 -> 0
A10: 5 | B10: MUROS DE ARRIMO | C10: ='LOTE 01-ORÇAMENTO'!I44 -> 126522.47 | D10: =C10/$C$30 -> 0.13177723 | E10: =C10*15% -> 18978.371 | F10: =C10*60% -> 75913.482 | G10: =C10*25% -> 31630.618 | H10: =C10-SUM(E10:G10) -> 0
E11: =E10/$C10 -> 0.15 | F11: =F10/$C10 -> 0.6 | G11: =G10/$C10 -> 0.25 | H11: =H10/$C10 -> 0 | I11: =I10/$C10 -> 0
A12: 6 | B12: BASE DO RESERVATÓRIO | C12: ='LOTE 01-ORÇAMENTO'!I85 -> 154171.67 | D12: =C12/$C$30 -> 0.16057477 | F12: =C12*100% -> 154171.67 | G12: =C12-F12 -> 0
E13: =E12/$C12 -> 0 | F13: =F12/$C12 -> 1 | G13: =G12/$C12 -> 0 | H13: =H12/$C12 -> 0 | I13: =I12/$C12 -> 0
A14: 7 | B14: SISTEMA DE PREVENÇÃO CONTRA DESCARGAS ATMOSFÉRICAS - SPDA | C14: ='LOTE 01-ORÇAMENTO'!I100 -> 12887.79 | D14: =C14/$C$30 -> 0.013423049 | H14: =C14*100% -> 12887.79 | I14: =C14-SUM(H14) -> 0
E15: =E14/$C14 -> 0 | F15: =F14/$C14 -> 0 | G15: =G14/$C14 -> 0 | H15: =H14/$C14 -> 1 | I15: =I14/$C14 -> 0
A16: 8 | B16: CAIXAS DE DESCARGA E SAÍDA | C16: ='LOTE 01-ORÇAMENTO'!I108 -> 102418.26 | D16: =C16/$C$30 -> 0.10667192 | G16: =C16*80% -> 81934.608 | H16: =C16*20% -> 20483.652 | I16: =C16-SUM(G16:H16) -> 0
E17: =E16/$C16 -> 0 | F17: =F16/$C16 -> 0 | G17: =G16/$C16 -> 0.8 | H17: =H16/$C16 -> 0.2 | I17: =I16/$C16 -> 0
A18: 9 | B18: URBANIZAÇÃO | C18: ='LOTE 01-ORÇAMENTO'!I196 -> 86123.7 | D18: =C18/$C$30 -> 0.089700612 | G18: =C18*65% -> 55980.405 | H18: =C18*35% -> 30143.295 | I18: =C18-SUM(G18:H18) -> 0
E19: =E18/$C18 -> 0 | F19: =F18/$C18 -> 0 | G19: =G18/$C18 -> 0.65 | H19: =H18/$C18 -> 0.35 | I19: =I18/$C18 -> 0
A20: 10 | B20: LIMPEZA FINAL DE OBRA | C20: ='LOTE 01-ORÇAMENTO'!I209 -> 1727.2 | D20: =C20/$C$30 -> 0.0017989345 | H20: =C20*100% -> 1727.2 | I20: =C20-SUM(G20:H20) -> 0
E21: =E20/$C20 -> 0 | F21: =F20/$C20 -> 0 | G21: =G20/$C20 -> 0 | H21: =H20/$C20 -> 1 | I21: =I20/$C20 -> 0
A22: 11 | B22: ELABORAÇÃO DE PROJETOS EXECUTIVOS | C22: ='LOTE 01-ORÇAMENTO'!I212 -> 37580.34 | D22: =C22/$C$30 -> 0.039141137 | E22: =C22*98% -> 36828.733 | H22: =C22*2% -> 751.6068 | I22: =C22-SUM(E22:H22) -> 0
E23: =E22/$C22 -> 0.98 | F23: =F22/$C22 -> 0 | G23: =G22/$C22 -> 0 | H23: =H22/$C22 -> 0.02 | I23: =I22/$C22 -> 0
D24: =C24/$C$30 -> 0 | G24: =C24*45% -> 0 | H24: =C24-SUM(G24) -> 0
E25: =E24/$C24 -> #DIV/0! | F25: =F24/$C24 -> #DIV/0! | G25: =G24/$C24 -> #DIV/0! | H25: =H24/$C24 -> #DIV/0! | I25: =I24/$C24 -> #DIV/0!
D26: =C26/$C$30 -> 0 | G26: =C26*45% -> 0 | H26: =C26-SUM(G26) -> 0
E27: =E26/$C26 -> #DIV/0! | F27: =F26/$C26 -> #DIV/0! | G27: =G26/$C26 -> #DIV/0! | H27: =H26/$C26 -> #DIV/0! | I27: =I26/$C26 -> #DIV/0!
D28: =C28/$C$30 -> 0 | G28: =C28*45% -> 0 | H28: =C28-SUM(G28) -> 0
E29: =E28/$C28 -> #DIV/0! | F29: =F28/$C28 -> #DIV/0! | G29: =G28/$C28 -> #DIV/0! | H29: =H28/$C28 -> #DIV/0! | I29: =I28/$C28 -> #DIV/0!
B30: TOTAL SIMPLES | C30: =SUM(C2:C29) -> 960123.88 | D30: =SUM(D2:D29) -> 1 | E30: =SUM(E2,E4,E6,E8,E10,E12,E14,E16,E18,E20,E22) -> 249328.79 | F30: =SUM(F2,F4,F6,F8,F10,F12,F14,F16,F18,F20,F22) -> 368167.7 | G30: =SUM(G2,G4,G6,G8,G10,G12,G14,G16,G18,G20,G22) -> 233171.29 | H30: =SUM(H2,H4,H6,H8,H10,H12,H14,H16,H18,H20,H22) -> 109456.1 | I30: =SUM(I2,I4,I6,I8,I10,I12,I14,I16,I18,I20,I22) -> 0
B31: % SIMPLES | E31: =($D$2*E3)+($D$4*E5)+($D$6*E7)+($D$8*E9)+($D$10*E11)+($D$12*E13)+($D$14*E15)+($D$16*E17)+($D$18*E19)+($D$20*E21)+($D$22*E23) -> 0.25968397 | F31: =($D$2*F3)+($D$4*F5)+($D$6*F7)+($D$8*F9)+($D$10*F11)+($D$12*F13)+($D$14*F15)+($D$16*F17)+($D$18*F19)+($D$20*F21)+($D$22*F23) -> 0.38345852 | G31: =($D$2*G3)+($D$4*G5)+($D$6*G7)+($D$8*G9)+($D$10*G11)+($D$12*G13)+($D$14*G15)+($D$16*G17)+($D$18*G19)+($D$20*G21)+($D$22*G23) -> 0.24285542 | H31: =($D$2*H3)+($D$4*H5)+($D$6*H7)+($D$8*H9)+($D$10*H11)+($D$12*H13)+($D$14*H15)+($D$16*H17)+($D$18*H19)+($D$20*H21)+($D$22*H23) -> 0.11400209 | I31: =($D$2*I3)+($D$4*I5)+($D$6*I7)+($D$8*I9)+($D$10*I11)+($D$12*I13)+($D$14*I15)+($D$16*I17)+($D$18*I19)+($D$20*I21)+($D$22*I23) -> 0
B32: TOTAL ACUMULADO | E32: =E30 -> 249328.79 | F32: =F30+E32 -> 617496.49 | G32: =G30+F32 -> 850667.78 | H32: =H30+G32 -> 960123.88 | I32: =I30+H32 -> 960123.88
B33: % ACUMULADO | E33: =E31 -> 0.25968397 | F33: =F31+E33 -> 0.64314249 | G33: =G31+F33 -> 0.88599791 | H33: =H31+G33 -> 1 | I33: =I31+H33 -> 1
A35: Cálculo do % a medir da Adm. Local, considerando o cronograma base proposto | E35: Mês 1 | F35: Mês 2 | G35: Mês 3 | H35: Mês 4 | I35: Mês 5
A36: R$ a medir sem Adm. Local, sem os itens caracterizados como materiais e sem pré-operação | E36: =SUBTOTAL(9,E2,E6,E8,E10,E12,E14,E16,E18,E20,E22) -> 201543.19 | F36: =SUBTOTAL(9,F2,F6,F8,F10,F12,F14,F16,F18,F20,F22) -> 297605.8 | G36: =SUBTOTAL(9,G2,G6,G8,G10,G12,G14,G16,G18,G20,G22) -> 188482.39 | H36: =SUBTOTAL(9,H2,H6,H8,H10,H12,H14,H16,H18,H20,H22) -> 88478.104 | I36: =SUBTOTAL(9,I2,I6,I8,I10,I12,I14,I16,I18,I20,I22) -> 0
A37: R$ contratado sem Adm. Local, sem os itens caracterizados como materiais e sem a pré-operação | E37: =$C$30-$C$4 -> 776109.48 | F37: =$C$30-$C$4 -> 776109.48 | G37: =$C$30-$C$4 -> 776109.48 | H37: =$C$30-$C$4 -> 776109.48 | I37: =$C$30-$C$4 -> 776109.48
A38: % Adm. Local a ser medido | E38: =E36/E37 -> 0.25968397 | F38: =F36/F37 -> 0.38345852 | G38: =G36/G37 -> 0.24285542 | H38: =H36/H37 -> 0.11400209 | I38: =I36/I37 -> 0
A39: % Adm. Local a ser medido acumulado | E39: =E38 -> 0.25968397 | F39: =E39+F38 -> 0.64314249 | G39: =F39+G38 -> 0.88599791 | H39: =G39+H38 -> 1 | I39: =H39+I38 -> 1

Sheet LOTE 01-CPU
A1: ID | B1: ITEM | C1: BASE | D1: CÓDIGO | E1: DESCRIÇÃO | F1: UNID. | G1: QUANT. | H1: R$ UNITÁRIO | I1: R$ TOTAL
A2: 1 | E2: MURO DE VEDAÇAO DE CONCRETO PREMOLDADO TIPO CALHA V, ALTURA LIVRE 2,5 M, INCLUINDO SAPATA EM CONCRETO DE 30CM X 50CM | F2: M | I2: =SUBTOTAL(9,I3:I9) -> 555.46643
C3: COPASA | D3: 65000152 | E3: ESCAVACAO MANUAL DE VALAS (SOLO SECO), PROFUNDIDADE ATE 1.50 M | F3: M³ | G3: =0.5*0.6*1 -> 0.3 | H3: =VLOOKUP(Tabela11[[#This Row],[CÓDIGO]],Tabela5[#All],5,0) -> 63.57 | I3: =Tabela11[[#This Row],[R$ UNITÁRIO]]*Tabela11[[#This Row],[QUANT.]] -> 19.071
C4: SUDECAP | D4: 403222 | E4: REGULARIZACAO E COMPACTACAO MANUAL DE TERRENO | F4: M² | G4: =0.5*1 -> 0.5 | H4: =VLOOKUP(Tabela11[[#This Row],[CÓDIGO]],Tabela5[#All],5,0) -> 5.79 | I4: =Tabela11[[#This Row],[R$ UNITÁRIO]]*Tabela11[[#This Row],[QUANT.]] -> 2.895
C5: SINAPI | D5: 88309 | E5: PEDREIRO, COM ENCARGOS COMPLEMENTARES | F5: H | G5: 1 | H5: =VLOOKUP(Tabela11[[#This Row],[CÓDIGO]],Tabela5[#All],5,0) -> 28.6 | I5: =Tabela11[[#This Row],[R$ UNITÁRIO]]*Tabela11[[#This Row],[QUANT.]] -> 28.6
C6: SINAPI | D6: 88242 | E6: SERVENTE, COM ENCARGOS COMPLEMENTARES | F6: H | G6: 2 | H6: =VLOOKUP(Tabela11[[#This Row],[CÓDIGO]],Tabela5[#All],5,0) -> 23.12 | I6: =Tabela11[[#This Row],[R$ UNITÁRIO]]*Tabela11[[#This Row],[QUANT.]] -> 46.24
C7: COPASA | D7: 65003753 | E7: CONCRETO ESTRUTURAL FCK 20 MPA, PREPARO EM BETONEIRA, INCLUSIVE LANÇAMENTO E ADENSAMENTO | F7: M³ | G7: =0.3*0.5*1 -> 0.15 | H7: =VLOOKUP(Tabela11[[#This Row],[CÓDIGO]],Tabela5[#All],5,0) -> 967.4 | I7: =Tabela11[[#This Row],[R$ UNITÁRIO]]*Tabela11[[#This Row],[QUANT.]] -> 145.11
C8: SICOR | D8: MATED-12842 | E8: MOURÃO PRÉ-MOLDADO DE CONCRETO, TIPO CALHA V, HT= 3,00 M | F8: UN | G8: =1/0.43 -> 2.3255814 | H8: =VLOOKUP(Tabela11[[#This Row],[CÓDIGO]],Tabela5[#All],5,0) -> 125.44 | I8: =Tabela11[[#This Row],[R$ UNITÁRIO]]*Tabela11[[#This Row],[QUANT.]] -> 291.72093
C9: SINAPI | D9: 34348 | E9: CONCERTINA CLIPADA (DUPLA) EM ACO GALVANIZADO DE ALTA RESISTENCIA, COM ESPIRAL DE 300 MM, D = 2,76 MM | F9: M | G9: 1.05 | H9: =VLOOKUP(Tabela11[[#This Row],[CÓDIGO]],Tabela5[#All],5,0) -> 20.79 | I9: =Tabela11[[#This Row],[R$ UNITÁRIO]]*Tabela11[[#This Row],[QUANT.]] -> 21.8295
A11: 2 | E11: PORTÃO DE ABRIR ESTRUTURADO EM TUBO E TELA, 2 FOLHAS - 3,00x2,50M | F11: UNID | I11: =SUBTOTAL(9,I12:I25) -> 3449.7411
C12: SUDECAP | D12: 551010 | E12: AUXILIAR DE SERRALHEIRO | F12: H | G12: 4.44 | H12: =VLOOKUP(Tabela11[[#This Row],[CÓDIGO]],Tabela5[#All],5,0) -> 17.5 | I12: =Tabela11[[#This Row],[R$ UNITÁRIO]]*Tabela11[[#This Row],[QUANT.]] -> 77.7
C13: SUDECAP | D13: 551086 | E13: SERRALHEIRO | F13: H | G13: 13 | H13: =VLOOKUP(Tabela11[[#This Row],[CÓDIGO]],Tabela5[#All],5,0) -> 24.71 | I13: =Tabela11[[#This Row],[R$ UNITÁRIO]]*Tabela11[[#This Row],[QUANT.]] -> 321.23
C14: SUDECAP | D14: 601115 | E14: FERRO REDONDO MECANICO SAE 1020 D= 1/2" | F14: KG | G14: 1.392 | H14: =VLOOKUP(Tabela11[[#This Row],[CÓDIGO]],Tabela5[#All],5,0) -> 8.3 | I14: =Tabela11[[#This Row],[R$ UNITÁRIO]]*Tabela11[[#This Row],[QUANT.]] -> 11.5536
C15: SUDECAP | D15: 601515 | E15: BARRA DE FERRO RETANGULAR, BARRA CHATA, 1" X 1/4" (L X E), 1,2265 KG/M | F15: KG | G15: 5.4984 | H15: =VLOOKUP(Tabela11[[#This Row],[CÓDIGO]],Tabela5[#All],5,0) -> 8.37 | I15: =Tabela11[[#This Row],[R$ UNITÁRIO]]*Tabela11[[#This Row],[QUANT.]] -> 46.021608
C16: SUDECAP | D16: 603035 | E16: TELA DE ARAME GALVANIZADA, QUADRANGULAR, FIO 2,77 MM (12 BWG), MALHA 5 X 5 CM, H = 2 M | F16: M2 | G16: 13.0848 | H16: =VLOOKUP(Tabela11[[#This Row],[CÓDIGO]],Tabela5[#All],5,0) -> 35.09 | I16: =Tabela11[[#This Row],[R$ UNITÁRIO]]*Tabela11[[#This Row],[QUANT.]] -> 459.14563
C17: SUDECAP | D17: 603516 | E17: ARAME GALVANIZADO BWG 16 (1,65MM) 60M/KG | F17: KG | G17: 1.0962 | H17: =VLOOKUP(Tabela11[[#This Row],[CÓDIGO]],Tabela5[#All],5,0) -> 21.18 | I17: =Tabela11[[#This Row],[R$ UNITÁRIO]]*Tabela11[[#This Row],[QUANT.]] -> 23.217516
C18: SICOR | D18: MATED-21604 | E18: CACHIMBO D= 1" | F18: UN | G18: 6 | H18: =VLOOKUP(Tabela11[[#This Row],[CÓDIGO]],Tabela5[#All],5,0) -> 14.04 | I18: =Tabela11[[#This Row],[R$ UNITÁRIO]]*Tabela11[[#This Row],[QUANT.]] -> 84.24
C19: SUDECAP | D19: 730307 | E19: TUBO ACO GALV. DIN 2440 E= 3,25 MM 1 1/2"C/COSTURA | F19: M | G19: 33.06 | H19: =VLOOKUP(Tabela11[[#This Row],[CÓDIGO]],Tabela5[#All],5,0) -> 53.27 | I19: =Tabela11[[#This Row],[R$ UNITÁRIO]]*Tabela11[[#This Row],[QUANT.]] -> 1761.1062
C20: SINAPI | D20: 34348 | E20: CONCERTINA CLIPADA (DUPLA) EM ACO GALVANIZADO DE ALTA RESISTENCIA, COM ESPIRAL DE 300 MM, D = 2,76 MM | F20: M | G20: 3 | H20: =VLOOKUP(Tabela11[[#This Row],[CÓDIGO]],Tabela5[#All],5,0) -> 20.79 | I20: =Tabela11[[#This Row],[R$ UNITÁRIO]]*Tabela11[[#This Row],[QUANT.]] -> 62.37
C21: COTAÇÃO | E21: TRAVA DE CADEADO PARA PORTÃO, Nº 5, 30 MM, EM FERRO, REF. DOVALE OU SIMILAR | F21: UN | G21: 1 | H21: =AVERAGE(36.9,37.4,29.9) -> 34.733333 | I21: =Tabela11[[#This Row],[R$ UNITÁRIO]]*Tabela11[[#This Row],[QUANT.]] -> 34.733333
C22: SUDECAP | D22: 403205 | E22: ESCAVACAO MANUAL H <= 1.5M M | F22: M3 | G22: 0.04 | H22: =VLOOKUP(Tabela11[[#This Row],[CÓDIGO]],Tabela5[#All],5,0) -> 52.68 | I22: =Tabela11[[#This Row],[R$ UNITÁRIO]]*Tabela11[[#This Row],[QUANT.]] -> 2.1072
C23: COPASA | D23: 65003753 | E23: CONCRETO ESTRUTURAL FCK 20 MPA, PREPARO EM BETONEIRA, INCLUSIVE LANÇAMENTO E ADENSAMENTO | F23: M³ | G23: 0.24 | H23: =VLOOKUP(Tabela11[[#This Row],[CÓDIGO]],Tabela5[#All],5,0) -> 967.4 | I23: =Tabela11[[#This Row],[R$ UNITÁRIO]]*Tabela11[[#This Row],[QUANT.]] -> 232.176
C24: COPASA | D24: 65000240 | E24: FORMA PLANA EM TABUA DE PINHO, P/ ESTRUTURAS | F24: M² | G24: 2.4 | H24: =VLOOKUP(Tabela11[[#This Row],[CÓDIGO]],Tabela5[#All],5,0) -> 75.17 | I24: =Tabela11[[#This Row],[R$ UNITÁRIO]]*Tabela11[[#This Row],[QUANT.]] -> 180.408
C25: SUDECAP | D25: 402210 | E25: ACO CA-50, D<= 12.7MM - CORTE,DOBRAMENTO,COLOCACAO | F25: KG | G25: 13.8 | H25: =VLOOKUP(Tabela11[[#This Row],[CÓDIGO]],Tabela5[#All],5,0) -> 11.14 | I25: =Tabela11[[#This Row],[R$ UNITÁRIO]]*Tabela11[[#This Row],[QUANT.]] -> 153.732
A27: 3 | E27: SERVIÇOS DE INSTALAÇÃO ELÉTRICA | F27: DIA | I27: =SUBTOTAL(9,I28:I29) -> 608
C28: SINAPI | D28: 88264 | E28: ELETRICISTA INDUSTRIAL COM ENCARGOS COMPLEMENTARES, CONSIDERANDO 8 HORAS/DIA | F28: H | G28: 8 | H28: =VLOOKUP(Tabela11[[#This Row],[CÓDIGO]],Tabela5[#All],5,0) -> 28.98 | I28: =Tabela11[[#This Row],[R$ UNITÁRIO]]*Tabela11[[#This Row],[QUANT.]] -> 231.84
C29: SINAPI | D29: 88247 | E29: AUXILIAR DE ELETRICISTA COM ENCARGOS COMPLEMENTARES, CONSIDERANDO 8 HORAS/DIA E 2 PROFISSIONAIS | F29: H | G29: 16 | H29: =VLOOKUP(Tabela11[[#This Row],[CÓDIGO]],Tabela5[#All],5,0) -> 23.51 | I29: =Tabela11[[#This Row],[R$ UNITÁRIO]]*Tabela11[[#This Row],[QUANT.]] -> 376.16
A31: 4 | E31: SERVIÇOS DE INSTALAÇÃO HIDRÁULICA | F31: DIA | I31: =SUBTOTAL(9,I32:I33) -> 403.2
C32: SINAPI | D32: 88267 | E32: ENCANADOR HIDRÁULICO COM ENCARGOS COMPLEMENTARES, CONSIDERANDO 8 HORAS/DIA | F32: H | G32: 8 | H32: =VLOOKUP(Tabela11[[#This Row],[CÓDIGO]],Tabela5[#All],5,0) -> 27.88 | I32: =Tabela11[[#This Row],[R$ UNITÁRIO]]*Tabela11[[#This Row],[QUANT.]] -> 223.04
C33: SINAPI | D33: 88248 | E33: AUXILIAR DE ENCANADOR COM ENCARGOS COMPLEMENTARES, CONSIDERANDO 8 HORAS/DIA. | F33: H | G33: 8 | H33: =VLOOKUP(Tabela11[[#This Row],[CÓDIGO]],Tabela5[#All],5,0) -> 22.52 | I33: =Tabela11[[#This Row],[R$ UNITÁRIO]]*Tabela11[[#This Row],[QUANT.]] -> 180.16
A35: 5 | E35: SERVIÇOS DE PEDREIRO E ACABAMENTO | F35: DIA | I35: =SUBTOTAL(9,I36:I37) -> 413.76
C36: SINAPI | D36: 88309 | E36: PEDREIRO COM ENCARGOS COMPLEMENTARES, CONSIDERANDO 8 HORAS/DIA | F36: H | G36: 8 | H36: =VLOOKUP(Tabela11[[#This Row],[CÓDIGO]],Tabela5[#All],5,0) -> 28.6 | I36: =Tabela11[[#This Row],[R$ UNITÁRIO]]*Tabela11[[#This Row],[QUANT.]] -> 228.8
C37: SINAPI | D37: 88242 | E37: AJUDANTE DE PEDREIRO COM ENCARGOS COMPLEMENTARES, CONSIDERANDO 8 HORAS/DIA. | F37: H | G37: 8 | H37: =VLOOKUP(Tabela11[[#This Row],[CÓDIGO]],Tabela5[#All],5,0) -> 23.12 | I37: =Tabela11[[#This Row],[R$ UNITÁRIO]]*Tabela11[[#This Row],[QUANT.]] -> 184.96
A39: 6 | E39: EXECUCAO DE DRENO VERTICAL COM PEDRISCO E MANTA GEOTÊXTIL, DIAMETRO 150 MM | F39: M | I39: =SUBTOTAL(9,I40:I43) -> 99.2797
C40: SINAPI | D40: 4720 | E40: PEDRA BRITADA N. 0, OU PEDRISCO (4,8 A 9,5 MM) POSTO PEDREIRA/FORNECEDOR, SEM FRETE | F40: M³ | G40: =ROUND(((PI()*0.2^2)/4)*1,2) -> 0.03 | H40: =VLOOKUP(Tabela11[[#This Row],[CÓDIGO]],Tabela5[#All],5,0) -> 146.53 | I40: =Tabela11[[#This Row],[R$ UNITÁRIO]]*Tabela11[[#This Row],[QUANT.]] -> 4.3959
C41: SICOR | D41: ED-29801 | E41: LOCACAO DE PERFURATRIZ PNEUMATICA DE PESO MEDIO, * 24 * KG, PARA ROCHA | F41: M³ | G41: =ROUND(((PI()*0.2^2)/4)*1,2) -> 0.03 | H41: =VLOOKUP(Tabela11[[#This Row],[CÓDIGO]],Tabela5[#All],5,0) -> 232.76 | I41: =Tabela11[[#This Row],[R$ UNITÁRIO]]*Tabela11[[#This Row],[QUANT.]] -> 6.9828
C42: SINAPI | D42: 88316 | E42: SERVENTE COM ENCARGOS COMPLEMENTARES | F42: H | G42: 4 | H42: =VLOOKUP(Tabela11[[#This Row],[CÓDIGO]],Tabela5[#All],5,0) -> 20.92 | I42: =Tabela11[[#This Row],[R$ UNITÁRIO]]*Tabela11[[#This Row],[QUANT.]] -> 83.68
C43: SINAPI | D43: 4011 | E43: GEOTEXTIL NAO TECIDO AGULHADO DE FILAMENTOS CONTINUOS 100% POLIESTER, RESITENCIA A TRACAO = 10 KN/M | F43: M² | G43: =ROUND(PI()*0.2*1,2) -> 0.63 | H43: =VLOOKUP(Tabela11[[#This Row],[CÓDIGO]],Tabela5[#All],5,0) -> 6.7 | I43: =Tabela11[[#This Row],[R$ UNITÁRIO]]*Tabela11[[#This Row],[QUANT.]] -> 4.221

Sheet LOTE 01-BDI
A1: IMPLANTAÇÃO DO RESERVATÓRIO ESTRELA DO SUL PLANILHA DE CÁLCULO DO BDI
A2: DISCRIMINAÇÃO DAS PARCELAS | B2: SIG. (1) | E2: INC.(5)
C3: ISS | D3: DIFERENCIADO
C4: 0.05 | D4: MATERIAL(3)
A5: CUSTO DIRETO | B5: CD | C5: 1 | D5: 1
A6: ADMINISTRAÇÃO CENTRAL | B6: AC | C6: 0.055 | D6: 0.027 | E6: CD
A7: LUCRO BRUTO | B7: L | C7: 0.075 | D7: 0.037 | E7: CD
A8: DESPESAS FINANCEIRAS | B8: DF | C8: 0.009 | D8: 0.009 | E8: CD
A9: SEGUROS, GARANTIAS E RISCO | C9: =SUM(C10:C11) -> 0.0225 | D9: =SUM(D10:D11) -> 0.0225 | E9: CD
A10: SEGUROS + GARANTIAS | B10: S | C10: 0.01 | D10: 0.01 | E10: CD
A11: RISCO(*) | B11: R | C11: 0.0125 | D11: 0.0125 | E11: CD
A12: TRIBUTOS | B12: I | C12: =SUM(C13:C15) -> 0.0615 | D12: =SUM(D13:D15) -> 0.0365 | E12: PV
A13: ISS | B13: ISS(2) | C13: =$C$4*50% -> 0.025 | D13: - | E13: PV
A14: PIS | B14: PIS | C14: 0.0065 | D14: 0.0065 | E14: PV
A15: COFINS | B15: COF | C15: 0.03 | D15: 0.03 | E15: PV
A16: CPRB | B16: INSS | C16: 0.027 | D16: 0.027 | E16: PV
A18: FÓRMULA DO BDI | C18: (1 + (AC + S + G + R)) x (1 + DF) x (1 + L)
C19: (1 - (I + CPRB))
A20: PARCELA DO NUMERADOR | C20: =(1+(C6+C9))*(1+C8)*(1+C7)-1 -> 0.16873731 | D20: =(1+(D6+D9))*(1+D8)*(1+D7)-1 -> 0.098126483
A21: PARCELA DO DENOMINADOR | C21: =(1-(C12+C16)) -> 0.9115 | D21: =(1-(D12+D16)) -> 0.9365
A22: BDI | C22: =(1+C20)/C21-1 -> 0.28221318 | D22: =(1+D20)/D21-1 -> 0.17258567
A23: OBSERVAÇÕES
A24: BDI (CONFORME ACÓRDÃO Nº 2622/13 e LEI Nº 13.161 DE 31/08/15) (1) SIGLA. (2) QUANTO AO ISS O TCU ORIENTA OBSERVAR A LEGISLAÇÃO DO MUNICÍPIO. NO REFERIDO ACÓRDÃO O TCU PARTIU DA PREMISSA DE INCIDÊNCIA DO ISS EM 50% DO PREÇO DE VENDA, MARIANA ADOTA ISS DE 5% INCIDENTE SOBRE OBRAS E SERVIÇOS DE ENGENHARIA. (3) BDI DIFERENCIADO A SER APLICADO EM CASOS DE FORNECIMENTO DE MATERIAIS E EQUIPAMENTOS. EX. CONJUNTO MOTOBOMBAS, TUBOS E CONEXÕES FOFO, QCM, QGBT, ETC. (4) BDI DIFERENCIADO A SER APLICADO PARA SERVIÇOS. (5) INCIDÊNCIA.

Sheet LOTE 02-ORÇAMENTO
A1: ITEM | B1: BASE | C1: CÓDIGO | D1: DESCRIÇÃO | E1: UNID. | F1: QUANT. | G1: UNITÁRIO SEM BDI | H1: UNITÁRIO COM BDI | I1: TOTAL | X1: BDI 1 | Y1: 0.2684
D2: RAP ESTRELA DO SUL | X2: BDI 2 | Y2: 0.2075
A3: 1 | D3: FORNECIMENTO E MONTAGEM DE TANQUE RESERVATÓRIO METÁLICO DE 1.000 M³
A4: 1.1 | B4: COTAÇÃO | C4: 1 | D4: FORNECIMENTO E MONTAGEM DE RESERVATÓRIO, COM CAPACIDADE DE ARMAZENAMENTO DE ÁGUA DE 1000 M³, A SER IMPLANTADO NO BAIRRO ESTRELA DO SUL, MODELO CILÍNDRICO APOIADO SOBRE BASE DE CONCRETO COM DIÂMETRO APROXIMADO DE 14,5 M, CONSTRUÍDO EM CHAPA METÁLICA DE AÇO CARBONO, CONSIDERANDO OS SEGUINTES ACESSÓRIOS INCLUSOS: ESCADA FIXA TIPO MARINHEIRO INTERNA E EXTERNA, SENDO A EXTERNA COM GUARDA-CORPO; BOCAL PARA INSPEÇÃO NA TAMPA SUPERIOR COM DIÂMETRO MÍNIMO DE 500 MM; CONEXÕES DE ENTRADA DE ÁGUA; CONEXÕES DE SAÍDA DE ÁGUA; DRENO PARA LIMPEZA; EXTRAVASOR; BOIA; SUPORTES COM ABRAÇADEIRAS PARA FIXAÇÃO DA TUBULAÇÃO; CORRIMÃO DE BORDA NO TETO COM 1,0 M DE ALTURA E SUPORTE DE PARA-RAIO E AINDA CONSIDERANDO ESTRUTURA TOTALMENTE REVESTIDA, CONFORME DESCRIÇÃO COMPLEMENTAR CONTIDA NO TERMO DE REFERÊNCIA, ANEXO DO EDITAL | E4: UNID | F4: 1 | G4: ='LOTE 02-MAPA_DE_COTAÇÕES'!F2 -> 926957 | H4: =Tabela36[[#This Row],[UNITÁRIO SEM BDI]] -> 926957 | I4: =ROUND(H4*F4,2) -> 926957
H5: TOTAL | I5: =SUBTOTAL(9,I3:I4) -> 926957 | W5: =SUM(W2:W4) -> 0 | Z5: =SUM(Z3:Z4) -> 0 | AB5: =SUM(AB3:AB4) -> 0
W6: =I5-W5 -> 926957

Sheet LOTE 02-CRONO FÍSICO-FINANCEIRO
A1: Meta | B1: Descrição | C1: Valor | D1: % | E1: Mês 1 | F1: Mês 2 | G1: Mês 3 | H1: Mês 4 | I1: Mês 5
A2: 1 | B2: FORNECIMENTO E MONTAGEM DE TANQUE RESERVATÓRIO METÁLICO DE 1.000 M³ - RAP 2 | C2: ='LOTE 02-ORÇAMENTO'!I5 -> 926957 | D2: =C2/$C$12 -> 1 | G2: =C2*40% -> 370782.8 | H2: =C2*60% -> 556174.2
E3: =E2/$C$2 -> 0 | F3: =F2/$C$2 -> 0 | G3: =G2/$C$2 -> 0.4 | H3: =H2/$C$2 -> 0.6 | I3: =I2/$C$2 -> 0
B12: TOTAL SIMPLES | C12: =SUM(C2:C11) -> 926957 | D12: =SUM(D2:D11) -> 1 | E12: =SUM(E2) -> 0 | F12: =SUM(F2) -> 0 | G12: =SUM(G2) -> 370782.8 | H12: =SUM(H2) -> 556174.2 | I12: =SUM(I2) -> 0
B13: % SIMPLES | E13: =($D$2*E3) -> 0 | F13: =($D$2*F3) -> 0 | G13: =($D$2*G3) -> 0.4 | H13: =($D$2*H3) -> 0.6 | I13: =($D$2*I3) -> 0
B14: TOTAL ACUMULADO | E14: =E12 -> 0 | F14: =F12+E14 -> 0 | G14: =G12+F14 -> 370782.8 | H14: =H12+G14 -> 926957
B15: % ACUMULADO | E15: =E13 -> 0 | F15: =F13+E15 -> 0 | G15: =G13+F15 -> 0.4 | H15: =H13+G15 -> 1

Sheet LOTE 02-MAPA_DE_COTAÇÕES
A1: ID | B1: EMPRESA | ITEM | C1: CNPJ | D1: CONTATO | E1: DATA | F1: VALOR
A2: 1 | B2: FORNECIMENTO E MONTAGEM DE RESERVATÓRIO, COM CAPACIDADE DE ARMAZENAMENTO DE ÁGUA DE 1000 M³, ..., CONFORME DESCRIÇÃO COMPLEMENTAR CONTIDA NO TERMO DE REFERÊNCIA, ANEXO DO EDITAL | F2: =MEDIAN(F3:F5) -> 926957
A3: 1 | B3: FORTMETAL METALURGICA LTDA | C3: 04.229.520/0001-21 | D3: Ubirajara A Santos tel. 31 9 9984-9061 | E3: 46064 | F3: 890000
A4: 2 | B4: METALÚRGICA RPL LTDA | C4: 02.899.143/0001-02 | D4: Proposta nº 0297/26 tamiris@rplreservatorios.com.br | E4: 46072 | F4: 988923.6
A5: 3 | B5: DIPAWA RESERVATÓRIOS METÁLICOS LTDA | C5: 55.456.602/0001-40 | D5: Proposta nº 17874 Cássia Nazaré de Souza 14 3404-3844 | E5: 46071 | F5: 926957

Sheet CURVA_ABC_APOIO
A1: ITEM | B1: CÓDIGO | C1: DESCRIÇÃO | D1: UNID. | E1: QUANT. | F1: UNITÁRIO COM BDI | G1: CUSTO TOTAL | H1: % CUSTO TOTAL | I1: % ACUMULADA | J1: CURVA ABC
A2: 1 | C2: MOBILIZAÇÃO E SERVIÇOS DE APOIO | G2: 152005.48
A3: 1.1 | C3: MOBILIZAÇÃO E DESMOBILIZAÇÃO | G3: 6787.8
A4: 1.1.1 | B4: 100947 | C4: TRANSPORTE COM CAMINHÃO CARROCERIA 9T, EM VIA URBANA PAVIMENTADA, DMT ATÉ 30KM | D4: TxKM | E4: 540 | F4: 2.76 | G4: 1490.4
A5: 1.1.2 | B5: 100948 | C5: TRANSPORTE COM CAMINHÃO CARROCERIA 9T, EM VIA URBANA PAVIMENTADA, ADICIONAL PARA DMT EXCEDENTE A 30 KM | D5: TxKM | E5: 4860 | F5: 1.09 | G5: 5297.4
A6: 1.2 | C6: SERVIÇOS DE APOIO | G6: 145217.68
A7: 1.2.1 | B7: 10777 | C7: LOCACAO DE CONTAINER 2,30 X 4,30 M, ALT. 2,50 M, PARA SANITARIO, COM 3 BACIAS, 4 CHUVEIROS, 1 LAVATORIO E 1 MICTORIO | D7: MÊS | E7: 7 | F7: 1483.35 | G7: 10383.45
A8: 1.2.2 | B8: 10775 | C8: LOCACAO DE CONTAINER 2,30 X 6,00 M, ALT. 2,50 M, COM 1 SANITARIO, PARA ESCRITORIO, COMPLETO, SEM DIVISORIAS INTERNAS | D8: MÊS | E8: 7 | F8: 1306.45 | G8: 9145.15
A9: 1.2.3 | B9: 10776 | C9: LOCACAO DE CONTAINER 2,30 X 6,00 M, ALT. 2,50 M, PARA ALMOXARIFADO, SEM DIVISORIAS INTERNAS E SEM SANITARIO | D9: MÊS | E9: 7 | F9: 1020.65 | G9: 7144.55
A10: 1.2.4 | B10: 65002555 | C10: GRUPO GERADOR DE ENERGIA ELETRICA, COM MOTOR A GASOLINA, POTENCIA DE 5KVA - HORA PRODUTIVA | D10: CHP | E10: 1344 | F10: 10.85 | G10: 14582.4
A11: 1.2.5 | B11: 65002556 | C11: GRUPO GERADOR DE ENERGIA ELETRICA, COM MOTOR A GASOLINA, POTENCIA DE 5KVA - HORA IMPRODUTIVA | D11: CHI | E11: 2688 | F11: 0.81 | G11: 2177.28
A12: 1.2.6 | B12: 37524 | C12: TELA PLÁSTICA LARANJA, TIPO TAPUME PARA SINALIZAÇÃO, MALHA RETANGULAR, ROLO 1,20 X 50,00 M (L X C) | D12: M | E12: 270 | F12: 2.35 | G12: 634.5
A13: 1.2.7 | B13: 65000010 | C13: SINALIZAÇÃO POR MEIO DE CONES, FORNECIMENTO E MOVIMENTAÇÃO | D13: UNID | E13: 600 | F13: 1.44 | G13: 864
A14: 1.2.8 | B14: ED-50155 | C14: LOCAÇÃO DE BANHEIRO QUÍMICO, DIMENSÕES (110X120X230)CM, LINHA PADRÃO, CONTENDO UMA (1) PIA/HIGIENIZADOR DE MÃOS, INCLUSIVE MANUTENÇÃO E MOBILIZAÇÃO/DESMOBILIZAÇÃO, CONSIDERANDO 2 UNIDADES | D14: MÊS | E14: 14 | F14: 1141.56 | G14: 15981.84
A15: 1.2.9 | B15: 430103 | C15: TOPOGRAFIA - EQUIPE DE TOPOGRAFIA - OBRA | D15: MÊS | E15: 2 | F15: 20866.62 | G15: 41733.24
A16: 1.2.10 | B16: 450106 | C16: VIAGEM DE CAMINHÃO PIPA, CAPACIDADE DE 6000 L, INCLUSIVE ÁGUA E MÃO DE OBRA, TEMPO DE PERMANÊNCIA NA OBRA DE ATÉ 2 HORAS | D16: VG | E16: 42 | F16: 474.52 | G16: 19929.84
A17: 1.2.11 | B17: 65001001 | C17: VEICULO UTILITÁRIO LEVE, TIPO PICK-UP, COM CAPACIDADE DE CARGA DE 700 KG, CONSIDERANDO DISPONIBILIDADE E COMBUSTÍVEL | D17: MÊS | E17: 7 | F17: 3234.49 | G17: 22641.43
A18: 2 | C18: ADMINISTRAÇÃO LOCAL | G18: 405746.32
A19: 2.1. | C19: ADMINISTRAÇÃO LOCAL DA OBRA | G19: 405746.32
A20: 2.1.1 | B20: 90778 | C20: ENGENHEIRO DE OBRA, NÍVEL PLENO, COM ENCARGOS SOCIAIS (4 H/DIA X 5,5 DIAS/SEM X 4 SEM/MÊS X 7 MESES) | D20: H | E20: 1232 | F20: 134.99 | G20: 166307.68
A21: 2.1.2 | B21: 90776 | C21: ENCARREGADO GERAL, COM ENCARGOS SOCIAIS (1 ENCARREGADO X 8 H/DIA X 5,5 DIAS/SEM X 4 SEM/MÊS X 7 MESES) | D21: H | E21: 1232 | F21: 61.31 | G21: 75533.92
A22: 2.1.3 | B22: 40943 | C22: TECNICO EM SEGURANCA DO TRABALHO (4 H/DIA X 5,5 DIAS/SEM X 4 SEM/MÊS X 7 MESES) | D22: H | E22: 616 | F22: 39.05 | G22: 24054.8
A23: 2.1.4 | B23: 551096 | C23: VIGIA NOTURNO COM ENCARGOS COMPLEMENTARES (2 VIGIAS X 12 H/DIA X 7 DIAS/SEM X 4 SEM/MÊS X 7 MESES) | D23: H | E23: 4704 | F23: 29.73 | G23: 139849.92
A24: 3 | C24: IDENTIFICAÇÃO DA OBRA | G24: 1524.16
A25: 3.1 | B25: ED-28427 | C25: FORNECIMENTO E COLOCAÇÃO DE PLACA DE OBRA EM CHAPA GALVANIZADA #26, ESP. 0,45MM, DIMENSÃO 3x1,5 M, PLOTADA COM ADESIVO VINÍLICO, AFIXADA COM REBITES 4,8x40MM, EM ESTRUTURA METÁLICA DE METALON 20x20MM, ESP. 1,25MM, INCLUSIVE SUPORTE EM EUCALIPTO AUTOCLAVADO PINTADO COM TINTA PVA DUAS (2) DEMÃOS | D25: UNID | E25: 1 | F25: 1524.16 | G25: 1524.16
A26: 4 | C26: SUBSISTEMA NOSSA SENHORA APARECIDA | G26: 2487869.9
A27: 4.1 | C27: REMOÇÕES E RECOMPOSIÇÕES | G27: 88155.765
A28: 4.1.1 | C28: REMOÇÕES | G28: 32038.445
A29: 4.1.1.1 | B29: 97636 | C29: DEMOLIÇÃO PARCIAL DE PAVIMENTO ASFÁLTICO, DE FORMA MECANIZADA, SEM REAPROVEITAMENTO | D29: M² | E29: 292.87 | F29: 27.19 | G29: 7963.1353
A30: 4.1.1.2 | B30: 100982 | C30: CARGA, MANOBRA E DESCARGA DE ENTULHO EM CAMINHÃO BASCULANTE 10 M³ - CARGA COM ESCAVADEIRA HIDRÁULICA (CAÇAMBA DE 0,80 M³ / 111 HP) E DESCARGA LIVRE (UNIDADE: M3) | D30: M³ | E30: 620.74 | F30: 11.14 | G30: 6915.0436
A31: 4.1.1.3 | B31: 95875 | C31: TRANSPORTE COM CAMINHÃO BASCULANTE DE 10 M³, EM VIA URBANA PAVIMENTADA, DMT ATÉ 30 KM (UNIDADE: M3XKM) | D31: M³xKM | E31: 5276.26 | F31: 3.05 | G31: 16092.593
A32: 4.1.1.4 | B32: 100574 | C32: ESPALHAMENTO DE MATERIAL COM TRATOR DE ESTEIRAS | D32: M³ | E32: 620.74 | F32: 1.72 | G32: 1067.6728
A33: 4.1.2 | C33: RECOMPOSIÇÕES | G33: 56117.32
A34: 4.1.2.1 | B34: 65000456 | C34: PAVIMENTO ASFALTICO EM CBUQ, FAIXA "C", INCLUSIVE BASE ESPESSURA 20 CM E CAPA DE 5 CM, PARA FAIXA DE LARGURA ATE 3,50 M | D34: M2 | E34: 172 | F34: 200.81 | G34: 34539.32
A35: 4.1.2.2 | B35: 65000486 | C35: RECOMPOSICAO DE PAVIMENTO EM PRE-MOLDADO DE CONCRETO, COM REAPROVEITAMENTO DO MATERIAL DEMOLIDO, INCLUSIVE BASE ESPESSURA 20 CM | D35: M2 | E35: 200 | F35: 107.89 | G35: 21578
A36: 4.2 | C36: MOVIMENTAÇÃO DE TERRA | G36: 174072.54
A37: 4.2.1 | C37: CORTE E ATERRO | G37: 25691.551
A38: 4.2.1.1 | B38: 101115 | C38: ESCAVAÇÃO HORIZONTAL EM SOLO DE 1A CATEGORIA COM TRATOR DE ESTEIRAS (150HP/LÂMINA: 3,18M3) | D38: M³ | E38: 4202.85 | F38: 4.65 | G38: 19543.253
A39: 4.2.1.2 | B39: ED-51098 | C39: COMPACTAÇÃO MECÂNICA DE ATERRO COM ROLO VIBRATÓRIO A 95% DO PROCTOR NORMAL, INCLUSIVE ESPALHAMENTO | D39: M³ | E39: 1166.66 | F39: 5.27 | G39: 6148.2982
A40: 4.2.2 | C40: BOTA FORA | G40: 148380.99
...

Sheet CURVA_ABC
A1: ITEM | B1: CÓDIGO | C1: DESCRIÇÃO | D1: UNID. | E1: QUANT. | F1: UNITÁRIO COM BDI | G1: CUSTO TOTAL | H1: CUSTO TOTAL ACUMULADO | I1: % ACUMULADO | J1: ID
A2: 4.7.14.3.1 | C2: FORNECIMENTO E MONTAGEM DE RESERVATÓRIO, COM CAPACIDADE DE ARMAZENAMENTO DE ÁGUA DE 1000 M³, A SER IMPLANTADO NO BAIRRO NOSSA SENHORA APARECIDA, MODELO CILÍNDRICO APOIADO SOBRE BASE DE CONCRETO COM DIÂMETRO APROXIMADO DE 13,0 M, CONSTRUÍDO EM CHAPA METÁLICA DE AÇO CARBONO, CONSIDERANDO OS SEGUINTES ACESSÓRIOS INCLUSOS: ESCADA FIXA TIPO MARINHEIRO INTERNA E EXTERNA, SENDO A EXTERNA COM GUARDA-CORPO; BOCAL PARA INSPEÇÃO NA TAMPA SUPERIOR COM DIÂMETRO MÍNIMO DE 500 MM; CONEXÕES DE ENTRADA DE ÁGUA; CONEXÕES DE SAÍDA DE ÁGUA; DRENO PARA LIMPEZA; EXTRAVASOR; BOIA; SUPORTES COM ABRAÇADEIRAS PARA FIXAÇÃO DA TUBULAÇÃO; CORRIMÃO DE BORDA NO TETO COM 1,0 M DE ALTURA E SUPORTE DE PARA-RAIO E AINDA CONSIDERANDO ESTRUTURA TOTALMENTE REVESTIDA, CONFORME DESCRIÇÃO COMPLEMENTAR CONTIDA NO TERMO DE REFERÊNCIA, ANEXO DO EDITAL | D2: UNID | E2: 1 | F2: 948763.2 | G2: 948763.2 | H2: =SUM($G$2:G2) -> 948763.2 | I2: =Tabela2[[#This Row],[CUSTO TOTAL ACUMULADO]]/$H$449 -> 0.30592268 | J2: 1
A3: 2.1.1 | B3: 90778 | C3: ENGENHEIRO DE OBRA, NÍVEL PLENO, COM ENCARGOS SOCIAIS (4 H/DIA X 5,5 DIAS/SEM X 4 SEM/MÊS X 7 MESES) | D3: H | E3: 1232 | F3: 134.99 | G3: 166307.68 | H3: =SUM($G$2:G3) -> 1115070.9 | I3: =Tabela2[[#This Row],[CUSTO TOTAL ACUMULADO]]/$H$449 -> 0.35954753 | J3: 2
A4: 4.11.2.1 | C4: QCM-1 PAINEL DE COMANDO COM SISTEMA ELETRÔNICO : ARMÁRIO EM CHAPA DE AÇO PARA INSTALAÇÃO ABRIGADA PARA ACIONAMENTO DO CONJUNTO MOTO BOMBA,COM PARTIDA , INVERSOR , SINALIZADOR , CHAVE SELETORA , CONTATOR AUXILIAR , VENTOINHA , FILTRO ,GRADE ,CONTATOR , PARA 2 MOTORES TRIFASICOS DE 1,6 KW - 220V | D4: UNID | E4: 1 | F4: 143304.89 | G4: 143304.89 | H4: =SUM($G$2:G4) -> 1258375.8 | I4: =Tabela2[[#This Row],[CUSTO TOTAL ACUMULADO]]/$H$449 -> 0.40575528 | J4: 3
A5: 2.1.4 | B5: 551096 | C5: VIGIA NOTURNO COM ENCARGOS COMPLEMENTARES (2 VIGIAS X 12 H/DIA X 7 DIAS/SEM X 4 SEM/MÊS X 7 MESES) | D5: H | E5: 4704 | F5: 29.73 | G5: 139849.92 | H5: =SUM($G$2:G5) -> 1398225.7 | I5: =Tabela2[[#This Row],[CUSTO TOTAL ACUMULADO]]/$H$449 -> 0.450849 | J5: 4
A6: 4.2.2.2 | B6: 95875 | C6: TRANSPORTE COM CAMINHÃO BASCULANTE DE 10 M³, EM VIA URBANA PAVIMENTADA, DMT ATÉ 30 KM (UNIDADE: M3XKM) | D6: M³xKM | E6: 35423.07 | F6: 3.05 | G6: 108040.36 | H6: =SUM($G$2:G6) -> 1506266.1 | I6: =Tabela2[[#This Row],[CUSTO TOTAL ACUMULADO]]/$H$449 -> 0.48568593 | J6: 5
A7: 4.3.6.28 | C7: CONJUNTO MOTOBOMBA, CENTRIFUGA, HORIZONTAL, PARA O PONTO DE OPERAÇÃO Q = 42,72 M³/H E Hman = 115,00 M, DIÂM. SUCÇÃO 2 1/2', DIÂM. RECALQUE 1 1/2', REF. SCHENEIDER, MODELO 065-040-250, F/MANC, 40 CV, DIÂM. DO ROTOR 246 MM, 60HZ, 220 V OU MODELO SIMILAR DE OUTRO FABRICANTE | D7: UNID | E7: 2 | F7: 39243.75 | G7: 78487.5 | H7: =SUM($G$2:G7) -> 1584753.6 | I7: =Tabela2[[#This Row],[CUSTO TOTAL ACUMULADO]]/$H$449 -> 0.51099373 | J7: 6
A8: 2.1.2 | B8: 90776 | C8: ENCARREGADO GERAL, COM ENCARGOS SOCIAIS (1 ENCARREGADO X 8 H/DIA X 5,5 DIAS/SEM X 4 SEM/MÊS X 7 MESES) | D8: H | E8: 1232 | F8: 61.31 | G8: 75533.92 | H8: =SUM($G$2:G8) -> 1660287.5 | I8: =Tabela2[[#This Row],[CUSTO TOTAL ACUMULADO]]/$H$449 -> 0.53534916 | J8: 7
A9: 4.11.3.1 | C9: QCM-2 PAINEL DE COMANDO COM SISTEMA ELETRÔNICO : ARMÁRIO EM CHAPA DE AÇO PARA INSTALAÇÃO ABRIGADA PARA ACIONAMENTO DO CONJUNTO MOTO BOMBA,COM PARTIDA , INVERSOR , SINALIZADOR , CHAVE SELETORA , CONTATOR AUXILIAR , VENTOINHA , FILTRO ,GRADE ,CONTATOR , PARA 2 MOTORES TRIFASICOS DE 1,6 KW - 220V | D9: UNID | E9: 1 | F9: 70115.9 | G9: 70115.9 | H9: =SUM($G$2:G9) -> 1730403.4 | I9: =Tabela2[[#This Row],[CUSTO TOTAL ACUMULADO]]/$H$449 -> 0.55795759 | J9: 8
A10: 4.7.14.1.3 | B10: 95875 | C10: TRANSPORTE COM CAMINHÃO BASCULANTE DE 10 M³, EM VIA URBANA PAVIMENTADA, DMT ATÉ 30 KM (UNIDADE: M3XKM) | D10: M³XKM | E10: 22022 | F10: 3.05 | G10: 67167.1 | H10: =SUM($G$2:G10) -> 1797570.5 | I10: =Tabela2[[#This Row],[CUSTO TOTAL ACUMULADO]]/$H$449 -> 0.5796152 | J10: 9
A11: 4.7.14.2.10 | B11: ED-48298 | C11: CORTE, DOBRA E MONTAGEM DE AÇO CA-50/60, INCLUSIVE ESPAÇADOR | D11: KG | E11: 4357.5 | F11: 14.43 | G11: 62878.725 | H11: =SUM($G$2:G11) -> 1860449.2 | I11: =Tabela2[[#This Row],[CUSTO TOTAL ACUMULADO]]/$H$449 -> 0.59989004 | J11: 10
A12: 4.3.1.2 | B12: 9828 | C12: TUBO PVC DEFOFO, JEI, 1 MPA, DN 150 MM, CONFORME NBR 7665, ITEM 01 | D12: M | E12: 351 | F12: 142.58 | G12: 50045.58 | H12: =SUM($G$2:G12) -> 1910494.8 | I12: =Tabela2[[#This Row],[CUSTO TOTAL ACUMULADO]]/$H$449 -> 0.61602692 | J12: 11
A13: 4.7.14.2.9 | B13: ED-49630 | C13: FORNECIMENTO DE CONCRETO ESTRUTURAL, USINADO, COM FCK 25MPA, INCLUSIVE LANÇAMENTO, ADENSAMENTO E ACABAMENTO | D13: M³ | E13: 52.6 | F13: 929.31 | G13: 48881.706 | H13: =SUM($G$2:G13) -> 1959376.5 | I13: =Tabela2[[#This Row],[CUSTO TOTAL ACUMULADO]]/$H$449 -> 0.63178852 | J13: 12
A14: 4.15.1.1 | B14: 65003863 | C14: AS BUILT | D14: UNID | E14: 25 | F14: 1743.21 | G14: 43580.25 | H14: =SUM($G$2:G14) -> 2002956.7 | I14: =Tabela2[[#This Row],[CUSTO TOTAL ACUMULADO]]/$H$449 -> 0.64584069 | J14: 13
A15: 1.2.9 | B15: 430103 | C15: TOPOGRAFIA - EQUIPE DE TOPOGRAFIA - OBRA | D15: MÊS | E15: 2 | F15: 20866.62 | G15: 41733.24 | H15: =SUM($G$2:G15) -> 2044690 | I15: =Tabela2[[#This Row],[CUSTO TOTAL ACUMULADO]]/$H$449 -> 0.65929731 | J15: 14
A16: 4.9.1.2 | B16: 2 | C16: MURO DE VEDAÇAO DE CONCRETO PREMOLDADO TIPO CALHA V, ALTURA LIVRE 2,5 M, INCLUINDO SAPATA EM CONCRETO DE 30CM X 50CM | D16: M | E16: 60 | F16: 654.63 | G16: 39277.8 | H16: =SUM($G$2:G16) -> 2083967.8 | I16: =Tabela2[[#This Row],[CUSTO TOTAL ACUMULADO]]/$H$449 -> 0.67196219 | J16: 15
A17: 4.3.2.4 | C17: RESERVATÓRIO METÁLICO, EM AÇO CARBONO, CILÍNDRICO VERTICAL, APOIADO, CAP. 20M³, ITEM 04 | D17: UNID | E17: 1 | F17: 35717.85 | G17: 35717.85 | H17: =SUM($G$2:G17) -> 2119685.6 | I17: =Tabela2[[#This Row],[CUSTO TOTAL ACUMULADO]]/$H$449 -> 0.68347918 | J17: 16
A18: 4.1.2.1 | B18: 65000456 | C18: PAVIMENTO ASFALTICO EM CBUQ, FAIXA "C", INCLUSIVE BASE ESPESSURA 20 CM E CAPA DE 5 CM, PARA FAIXA DE LARGURA ATE 3,50 M | D18: M2 | E18: 172 | F18: 200.81 | G18: 34539.32 | H18: =SUM($G$2:G18) -> 2154224.9 | I18: =Tabela2[[#This Row],[CUSTO TOTAL ACUMULADO]]/$H$449 -> 0.69461617 | J18: 17
